BEGIN:VCALENDAR
VERSION:2.0
PRODID:-//Cumberland Amateur Radio Club - ECPv6.15.20//NONSGML v1.0//EN
CALSCALE:GREGORIAN
METHOD:PUBLISH
X-ORIGINAL-URL:https://www.radioclub-carc.com
X-WR-CALDESC:Events for Cumberland Amateur Radio Club
REFRESH-INTERVAL;VALUE=DURATION:PT1H
X-Robots-Tag:noindex
X-PUBLISHED-TTL:PT1H
BEGIN:VTIMEZONE
TZID:America/New_York
BEGIN:DAYLIGHT
TZOFFSETFROM:-0500
TZOFFSETTO:-0400
TZNAME:EDT
DTSTART:20240310T070000
END:DAYLIGHT
BEGIN:STANDARD
TZOFFSETFROM:-0400
TZOFFSETTO:-0500
TZNAME:EST
DTSTART:20241103T060000
END:STANDARD
BEGIN:DAYLIGHT
TZOFFSETFROM:-0500
TZOFFSETTO:-0400
TZNAME:EDT
DTSTART:20250309T070000
END:DAYLIGHT
BEGIN:STANDARD
TZOFFSETFROM:-0400
TZOFFSETTO:-0500
TZNAME:EST
DTSTART:20251102T060000
END:STANDARD
BEGIN:DAYLIGHT
TZOFFSETFROM:-0500
TZOFFSETTO:-0400
TZNAME:EDT
DTSTART:20260308T070000
END:DAYLIGHT
BEGIN:STANDARD
TZOFFSETFROM:-0400
TZOFFSETTO:-0500
TZNAME:EST
DTSTART:20261101T060000
END:STANDARD
END:VTIMEZONE
BEGIN:VEVENT
DTSTART;TZID=America/New_York:20250919T100000
DTEND;TZID=America/New_York:20250920T150000
DTSTAMP:20260422T092050
CREATED:20220806T203239Z
LAST-MODIFIED:20250303T155639Z
UID:22158-1758276000-1758380400@www.radioclub-carc.com
SUMMARY:Kutztown Antique Radio Meet September
DESCRIPTION:The Kutztown Antique Radio Meet is held twice a year in May and September.\nIt has grown to one of the largest radio shows in the country\, attracting collectors and dealers from all over the US.\nThe Show is held at Renninger’s Antiques and Farmer’s Market. \nFriday May 09 and Saturday May 10\, 2025\nCheck website for hours of operation.\nEvent Website:  https://renningers.net/events/kutztown-antiques-radio-vintage-electronics-meet/ \n  \nFriday September 19 and Saturday September 20\, 2025\nCheck website for hours of operation.\nEvent Website:  https://renningers.net/events/kutztown-antiques-radio-vintage-electronics-meet-2/ \n  \n 
URL:https://www.radioclub-carc.com/calendar/kutztown-antique-radio-september/
LOCATION:Renninger’s Antiques and Farmer’s Market\, 740 Nobel St\, Kutztown\, PA\, United States
CATEGORIES:Hamfest
END:VEVENT
BEGIN:VEVENT
DTSTART;TZID=America/New_York:20250920T100000
DTEND;TZID=America/New_York:20250920T215900
DTSTAMP:20260422T092050
CREATED:20200202T152122Z
LAST-MODIFIED:20250509T121215Z
UID:15997-1758362400-1758405540@www.radioclub-carc.com
SUMMARY:New Jersey QSO Party
DESCRIPTION:New Jersey QSO Party — NJQP \nUTC Dates and Times:\nBegin:  Saturday   September 20\, 2025   at 1400Z\nEnd:     Sunday      September 21\, 2025    at 0159Z \nOperate up to 12 hours \nRules\, Scoring\, Reporting and a lot of Additional Information on their website.\nFor your convenience\, please use our EVENT WEBSITE link. \nEvent Website Link:  http://www.k2td-bcrc/njqp/rules.html \n  \n 
URL:https://www.radioclub-carc.com/calendar/new-jersey-qso-party/
LOCATION:On-The-Air\, General Delivery\, Dillsburg\, PA\, United States
CATEGORIES:State QSO Party
END:VEVENT
BEGIN:VEVENT
DTSTART;TZID=America/New_York:20250920T100000
DTEND;TZID=America/New_York:20250920T215900
DTSTAMP:20260422T092050
CREATED:20210107T185459Z
LAST-MODIFIED:20250509T115958Z
UID:18131-1758362400-1758405540@www.radioclub-carc.com
SUMMARY:Iowa QSO Party
DESCRIPTION:Iowa QSO Party — IAQP \nUTC Dates and Times\nBegin:   Saturday  September 20\, 2025   at 1400Z\nEnd:      Sunday     September 21\, 2025   at 0159Z \nOperate up to 12 hours \nRules\, Scoring\, Reporting and a lot of Additional Information at their website.\nFor your convenience\, please use our EVENT WEBSITE link. \nEvent Website Link:  http://w0yl.com/IAQP \n  \nNote especially for digital modes: All valid QSOs must complete the full contest exchange. \nIt appears JS8Call could work\, as that allows for free-form text entry QSOs. It looks like WSJT-x (FT8 and FT4) will NOT work at this time\, as the software does not allow free-form text QSO\, which means passing the FULL EXCHANGE is not possible. Perhaps in the future this may be possible\, but as of 2023 it appears not. \nSuggested Frequencies: \nBand    CW       PH/SSB      PH/FM \n160m   1.820    1.855  \n80m     3.540    3.840  \n40m     7.040    7.210  \n20m    14.040  14.285  \n15m    21.040   21.330  \n10m    28.040   28.415  \n6m      50.040    50.150       52.550 \n2m      144.060  144.250    146.550 \n1.25m                  222.150   223.450 \n70cm   432.105   432.150   446.550
URL:https://www.radioclub-carc.com/calendar/iowa-qso-party/
LOCATION:On-The-Air\, General Delivery\, Dillsburg\, PA\, United States
CATEGORIES:State QSO Party
END:VEVENT
BEGIN:VEVENT
DTSTART;TZID=America/New_York:20250920T100000
DTEND;TZID=America/New_York:20250921T155900
DTSTAMP:20260422T092050
CREATED:20200202T151048Z
LAST-MODIFIED:20250509T134314Z
UID:15986-1758362400-1758470340@www.radioclub-carc.com
SUMMARY:Texas QSO Party
DESCRIPTION:Texas QSO Party — TXQP \nUTC Dates and Times:\nBegin1:  Saturday   September 20\, 2025  at 1400Z\nEnd1:     Sunday      September 21\, 2025  at 0159Z \n(overnight gap) \nBegin2:  Sunday     September 21\, 2025   at 1400Z\nEnd:       Sunday      September 21\, 2025   at 1959Z \nNote:  Our Calendar View does not represent the two-segment operating periods of this contest.\nThe UTC Dates and Times\, shown above\, do represent the two separate time periods with an overnight gap. \nRules\, Scoring\, Reporting and lots of Additional Information on their website.\nFor your convenience\, please use our EVENT WEBSITE link. \nEvent Website Link:  https://www.txqp.net/ \nSuggested Frequencies\n\nCW—20 kHz to 40 kHz up from the bottom of the band.\nPHONE—25 kHz up in General segments and 28.300 – 28.500\nVHF—50.200 MHz and 144.200 MHz
URL:https://www.radioclub-carc.com/calendar/texas-qso-party/
LOCATION:On-The-Air\, General Delivery\, Dillsburg\, PA\, United States
CATEGORIES:State QSO Party
END:VEVENT
BEGIN:VEVENT
DTSTART;TZID=America/New_York:20250920T120000
DTEND;TZID=America/New_York:20250921T195900
DTSTAMP:20260422T092050
CREATED:20200202T152857Z
LAST-MODIFIED:20250509T134610Z
UID:16001-1758369600-1758484740@www.radioclub-carc.com
SUMMARY:Washington State Salmon Run
DESCRIPTION:Washington State Salmon Run (QSO Party) \nUTC Dates and Times:\nBegin1:  Saturday   September 20\, 2025   at 1600Z\nEnd1:     Sunday      September 21\, 2025   at 0700Z \n(overnight gap) \nBegin2:  Sunday      September 21\, 2025   at 1600Z\nEnd2:     Sunday      September 21\, 2025   at 2359Z \nOur Calendar View shows the overall beginning and ending Dates/Times for this QSO Party.\nThe UTC Dates and Times\, shown above\, represent the two separate operating sessions and the overnight gap. \nRules\, Scoring\, Reporting and a lot of Additional Information on their website.\nFor your convenience\, please use our EVENT WEBSITE link. \nEvent Website Link:  http://www.salmonrun.wwdxc.org/
URL:https://www.radioclub-carc.com/calendar/washington-state-salmon-run/
LOCATION:On-The-Air\, General Delivery\, Dillsburg\, PA\, United States
CATEGORIES:State QSO Party
END:VEVENT
END:VCALENDAR