BEGIN:VCALENDAR
VERSION:2.0
PRODID:-//Cumberland Amateur Radio Club - ECPv6.15.20//NONSGML v1.0//EN
CALSCALE:GREGORIAN
METHOD:PUBLISH
X-ORIGINAL-URL:https://www.radioclub-carc.com
X-WR-CALDESC:Events for Cumberland Amateur Radio Club
REFRESH-INTERVAL;VALUE=DURATION:PT1H
X-Robots-Tag:noindex
X-PUBLISHED-TTL:PT1H
BEGIN:VTIMEZONE
TZID:America/New_York
BEGIN:DAYLIGHT
TZOFFSETFROM:-0500
TZOFFSETTO:-0400
TZNAME:EDT
DTSTART:20240310T070000
END:DAYLIGHT
BEGIN:STANDARD
TZOFFSETFROM:-0400
TZOFFSETTO:-0500
TZNAME:EST
DTSTART:20241103T060000
END:STANDARD
BEGIN:DAYLIGHT
TZOFFSETFROM:-0500
TZOFFSETTO:-0400
TZNAME:EDT
DTSTART:20250309T070000
END:DAYLIGHT
BEGIN:STANDARD
TZOFFSETFROM:-0400
TZOFFSETTO:-0500
TZNAME:EST
DTSTART:20251102T060000
END:STANDARD
BEGIN:DAYLIGHT
TZOFFSETFROM:-0500
TZOFFSETTO:-0400
TZNAME:EDT
DTSTART:20260308T070000
END:DAYLIGHT
BEGIN:STANDARD
TZOFFSETFROM:-0400
TZOFFSETTO:-0500
TZNAME:EST
DTSTART:20261101T060000
END:STANDARD
END:VTIMEZONE
BEGIN:VEVENT
DTSTART;TZID=America/New_York:20251004T120000
DTEND;TZID=America/New_York:20251005T175900
DTSTAMP:20260422T072208
CREATED:20200202T180315Z
LAST-MODIFIED:20250509T134825Z
UID:16024-1759579200-1759687140@www.radioclub-carc.com
SUMMARY:California QSO Party
DESCRIPTION:California QSO Party — CQP \nUTC Dates and Times\nBegin:  Saturday  October 04\, 2025  1600Z\nEnd:     Sunday     October 05\, 2025  2159Z \nRules\, Scoring\, Reporting and a lot of Additional Information on their website.\nFor your convenience\, please use our EVENT WEBSITE link. \nEvent Website Link:  http://www.cqp.org/ \n 
URL:https://www.radioclub-carc.com/calendar/california-qso-party/
LOCATION:On-The-Air\, General Delivery\, Dillsburg\, PA\, United States
CATEGORIES:State QSO Party
END:VEVENT
BEGIN:VEVENT
DTSTART;TZID=America/New_York:20251005T070000
DTEND;TZID=America/New_York:20251005T120000
DTSTAMP:20260422T072208
CREATED:20220926T083731Z
LAST-MODIFIED:20250303T102146Z
UID:22348-1759647600-1759665600@www.radioclub-carc.com
SUMMARY:CARA Fest
DESCRIPTION:CARA Fest\nSunday October 05\, 2025 \nInformation shown here has been carried over from the 2024 event.  If there are changes for 2025 they will be posted after the event sponsor posts an update. \n  \nHoward County Fairgrounds\, West Friendship\, Maryland \n$10 at the door.  Kids under 16 FREE.\nAdd $10 for an outdoor tailgating space\, or $20 for an indoor table. \nFood will be available for purchase from the Lions Club (while supplies last) \nTIMES:\n\nVendors & Swapmeet: 7 am – Noon\nClub Exhibits: 7 am – Noon\nFree Amateur Radio Testing: 9 am – 10:30 am\nGates open at 6am for Vendors and Tailgating Setup\n\nWhat is CARA Fest?\nCARA Fest is an annual Ham Fest and STEM event hosted by the Columbia Amateur Radio Association (CARA\, K3CUJ). Because it encompasses so much more than just a Ham event\, we call it “CARA Fest.” It brings together amateur radio operators (“hams”) and those interested in other electronics-related activities to exchange ideas\, expertise\, enthusiasm\, and equipment. CARA Fest provides a variety of educational and sales opportunities\, such as: \n\nLocal/national vendors and individuals selling personal equipment\, from radio gear and books to computers\nReps from local technical organizations\nHands-on STEM activities for kids and adults\nSpeakers on a variety of technical topics\nOn-site amateur radio license testing\nAnd much more!\n\nWhy Get Into Amateur Radio?\nAmateur radio is a hands-on hobby for tech enthusiasts and there’s something for everyone- from analog to digital to Morse code. It’s a hobby for everyone interested in science\, technology and electronics. Plus\, the ham community is small but diverse\, including some very interesting folks. When you hop on the radio\, you never know who you might talk to…it could be the king of another country or a Hollywood star. \nAmateur Radio also serves a critical need in our community. Through the Amateur Radio Emergency Service® (ARES) and the Radio Amateur Civil Emergency Service (RACES)\, Hams provide volunteer emergency communications during natural disasters and other community crises. When other forms of communications are down\, hams come to the rescue. Read about how amateur radio was instrumental during Hurricane Katrina\, the attacks on 9/11\, and how hams help in search and rescue operations. \nAdditional Information and Travel Directions can be found on the Event Website.\nFor your convenience\, please use our link. \n  \nTalk-In:  147.390 MHz   Offset:  + 600 KHz  Tone: 156.7 Hz \n  \n 
URL:https://www.radioclub-carc.com/calendar/cara-fest/
LOCATION:Howard County Fairgrounds\, 2210 Fairgrounds Road\, West Friendship\, MD\, 21794-9604\, United States
CATEGORIES:Hamfest,License Exam,Preliminary Info,Tailgating
ORGANIZER;CN="Columbia Amateur Radio Association":MAILTO:cara@columbiaara.org
END:VEVENT
END:VCALENDAR