BEGIN:VCALENDAR
VERSION:2.0
PRODID:-//Cumberland Amateur Radio Club - ECPv6.15.20//NONSGML v1.0//EN
CALSCALE:GREGORIAN
METHOD:PUBLISH
X-WR-CALNAME:Cumberland Amateur Radio Club
X-ORIGINAL-URL:https://www.radioclub-carc.com
X-WR-CALDESC:Events for Cumberland Amateur Radio Club
REFRESH-INTERVAL;VALUE=DURATION:PT1H
X-Robots-Tag:noindex
X-PUBLISHED-TTL:PT1H
BEGIN:VTIMEZONE
TZID:America/New_York
BEGIN:DAYLIGHT
TZOFFSETFROM:-0500
TZOFFSETTO:-0400
TZNAME:EDT
DTSTART:20240310T070000
END:DAYLIGHT
BEGIN:STANDARD
TZOFFSETFROM:-0400
TZOFFSETTO:-0500
TZNAME:EST
DTSTART:20241103T060000
END:STANDARD
BEGIN:DAYLIGHT
TZOFFSETFROM:-0500
TZOFFSETTO:-0400
TZNAME:EDT
DTSTART:20250309T070000
END:DAYLIGHT
BEGIN:STANDARD
TZOFFSETFROM:-0400
TZOFFSETTO:-0500
TZNAME:EST
DTSTART:20251102T060000
END:STANDARD
BEGIN:DAYLIGHT
TZOFFSETFROM:-0500
TZOFFSETTO:-0400
TZNAME:EDT
DTSTART:20260308T070000
END:DAYLIGHT
BEGIN:STANDARD
TZOFFSETFROM:-0400
TZOFFSETTO:-0500
TZNAME:EST
DTSTART:20261101T060000
END:STANDARD
END:VTIMEZONE
BEGIN:VEVENT
DTSTART;VALUE=DATE:20251007
DTEND;VALUE=DATE:20251012
DTSTAMP:20260422T072026
CREATED:20220611T200006Z
LAST-MODIFIED:20250509T133428Z
UID:22040-1759795200-1760227199@www.radioclub-carc.com
SUMMARY:Antique Wireless Assoc. Conference
DESCRIPTION:2025 Antique Wireless Association Conference \nOctober 07 through October 11\, 2025 \nTheme:   Television \nFor the best experience\, read their conference flyer.   Visit their website.\nEvent Website Link:    https://www.antiquewireless.org/homepage/annual-conference/ \nEnjoy. \n  \n 
URL:https://www.radioclub-carc.com/calendar/antique-wireless-assoc-conference/
LOCATION:RIT Inn and Conference Center\, 5257 West Henrietta Road\, Henrietta\, NY\, 14467\, United States
CATEGORIES:Convention
END:VEVENT
BEGIN:VEVENT
DTSTART;TZID=America/New_York:20251010T230000
DTEND;TZID=America/New_York:20251012T165900
DTSTAMP:20260422T072026
CREATED:20200202T181322Z
LAST-MODIFIED:20250509T140732Z
UID:16033-1760137200-1760288340@www.radioclub-carc.com
SUMMARY:Nevada QSO Party
DESCRIPTION:Nevada QSO Party — NVQP \nUTC Dates and Times:\nBegin:  Saturday   October 11\, 2025  at 0300Z\nEnd:     Sunday      October 12\, 2025  at 2059Z \nRules\, Scoring\, Reporting and a lot of Additional Information on their website.\nFor your convenience\, please use our Link. \nEvent Website Link:   \n  \n 
URL:https://www.radioclub-carc.com/calendar/nevada-qso-party/
LOCATION:On-The-Air\, General Delivery\, Dillsburg\, PA\, United States
CATEGORIES:State QSO Party
END:VEVENT
BEGIN:VEVENT
DTSTART;TZID=America/New_York:20251011T080000
DTEND;TZID=America/New_York:20251012T195900
DTSTAMP:20260422T072026
CREATED:20220226T204416Z
LAST-MODIFIED:20251002T023907Z
UID:21487-1760169600-1760299140@www.radioclub-carc.com
SUMMARY:SKCC Weekend Sprintathon (WES) October
DESCRIPTION:SKCC Weekend Sprintathon (WES) \nUTC Dates and Times\nBegin:  Saturday October 11\, 2025   at 1200Z\nEnd:     Sunday    October 12\, 2025   at  2359Z \nThe event follows the same UTC year-round.  The local time will change as Daylight Saving Time takes effect or ends.    \nEastern Standard Local Dates and Times\nBegins:   Saturday    07:00 a.m.\nEnds:       Sunday       06:59 p.m. \nEastern Daylight Saving Local Dates and Times\nBegins:   Saturday    08:00 a.m.\nEnds:       Sunday       07:59 p.m. \n  \nThis event repeats each month beginning on the second Saturday. \nOperate up to 36 hours. \nEvent Website:  https://www.skccgroup.com/operating_activities/weekend_sprintathon/ \n  \nThe SKCC Weekend Sprintathon often features some type of Bonus Points.\nThe October Bonus Point theme supports the SKCC Triple Key Award (TKA).\nOperators who have earned the SKCC TKA Award will transmit\, as part of the Exchange\, their name followed by /TKA.\nEach station receiving such a name/TKA exchange will be awarded 5 Bonus Points for the QSO. \n  \nSKCC runs a monthly activity\, which is a great environment for getting comfortable with contest-like CW QSOs. \nThe Weekend Sprintathon (WES) spans a weekend\, each with a fun theme for collecting bonus points.\nThese events provide a great opportunity for those seeking various SKCC recognition levels\, besides contacting friends old and new! \nTypically\, SKCC operators will QRS to the speed of the station calling them.
URL:https://www.radioclub-carc.com/calendar/skcc-weekend-sprintathon-oct/
LOCATION:On-The-Air\, General Delivery\, Dillsburg\, PA\, United States
CATEGORIES:Contest,CW,On-The-Air
END:VEVENT
BEGIN:VEVENT
DTSTART;TZID=America/New_York:20251011T110000
DTEND;TZID=America/New_York:20251012T005900
DTSTAMP:20260422T072026
CREATED:20200202T181534Z
LAST-MODIFIED:20250509T144421Z
UID:16036-1760180400-1760230740@www.radioclub-carc.com
SUMMARY:Arizona QSO Party
DESCRIPTION:Arizona QSO Party — AZQP \nUTC Dates and Times:\nBegin:   Saturday  October 11\, 2025  1500Z\nEnd:      Sunday     October 12\, 2025   0459Z \nRules\, Scoring\, Reporting and a lot of Additional Information on their website.\nFor your convenience\, please use our EVENT WEBSITE link. \nEvent Website Link:  https://www.azqp.org/ \n  \n 
URL:https://www.radioclub-carc.com/calendar/arizona-qso-party/
LOCATION:On-The-Air\, General Delivery\, Dillsburg\, PA\, United States
CATEGORIES:State QSO Party
END:VEVENT
BEGIN:VEVENT
DTSTART;TZID=America/New_York:20251011T120000
DTEND;TZID=America/New_York:20251012T180000
DTSTAMP:20260422T072026
CREATED:20181223T214802Z
LAST-MODIFIED:20250509T140021Z
UID:14070-1760184000-1760292000@www.radioclub-carc.com
SUMMARY:Pennsylvania QSO Party
DESCRIPTION:Pennsylvania QSO Party — PAQP \nUTC Dates and Times:\nBegin1:  Saturday  October 11\, 2025  1600Z\nEnd1:     Sunday     October 12\, 2025  0400Z \n(overnight gap) \nBegin2:  Sunday     October 12\, 2025  1300Z\nEnd2:     Sunday     October 12\, 2025  2200Z \nOur Calendar View does not represent the two-segment nature of this contest.\nThe UTC Dates and Times\, shown above\, properly represent the two segments and the overnight gap. \n  \nRules\, Scoring\, Reporting and a lot of Additional Information on their website.\nFor your convenience\, please use our EVENT WEBSITE link. \nEvent Website:  https://www.PAQSO.org/ \nThe Cumberland Amateur Radio Club typically organizes a group activity and enters this contest as a Multi-Operator\, Multi-Transmitter Portable operation using the club call sign K3IEC. \n  \n  \n 
URL:https://www.radioclub-carc.com/calendar/pa-qso-party/
LOCATION:On-The-Air\, General Delivery\, Dillsburg\, PA\, United States
CATEGORIES:State QSO Party
END:VEVENT
BEGIN:VEVENT
DTSTART;TZID=America/New_York:20251011T140000
DTEND;TZID=America/New_York:20251012T135900
DTSTAMP:20260422T072026
CREATED:20210107T190519Z
LAST-MODIFIED:20250509T143528Z
UID:18137-1760191200-1760277540@www.radioclub-carc.com
SUMMARY:South Dakota QSO Party
DESCRIPTION:South Dakota QSO Party \nUTC Dates and Times\nBegin:  Saturday   October 11\, 2025   at 1800Z\nEnd:     Sunday      October 12\, 2025   at 1759Z \nRules\, Scoring\, Reporting and a lot of Additional Information on their website.\nFor your convenience\, please use our EVENT WEBSITE link. \nEvent Website Link:  http://www.sdqsoparty.com/ \n  \n  \n 
URL:https://www.radioclub-carc.com/calendar/south-dakota-qso-party/
LOCATION:On-The-Air\, General Delivery\, Dillsburg\, PA\, United States
CATEGORIES:State QSO Party
END:VEVENT
END:VCALENDAR