BEGIN:VCALENDAR
VERSION:2.0
PRODID:-//Cumberland Amateur Radio Club - ECPv6.15.20//NONSGML v1.0//EN
CALSCALE:GREGORIAN
METHOD:PUBLISH
X-ORIGINAL-URL:https://www.radioclub-carc.com
X-WR-CALDESC:Events for Cumberland Amateur Radio Club
REFRESH-INTERVAL;VALUE=DURATION:PT1H
X-Robots-Tag:noindex
X-PUBLISHED-TTL:PT1H
BEGIN:VTIMEZONE
TZID:America/New_York
BEGIN:DAYLIGHT
TZOFFSETFROM:-0500
TZOFFSETTO:-0400
TZNAME:EDT
DTSTART:20240310T070000
END:DAYLIGHT
BEGIN:STANDARD
TZOFFSETFROM:-0400
TZOFFSETTO:-0500
TZNAME:EST
DTSTART:20241103T060000
END:STANDARD
BEGIN:DAYLIGHT
TZOFFSETFROM:-0500
TZOFFSETTO:-0400
TZNAME:EDT
DTSTART:20250309T070000
END:DAYLIGHT
BEGIN:STANDARD
TZOFFSETFROM:-0400
TZOFFSETTO:-0500
TZNAME:EST
DTSTART:20251102T060000
END:STANDARD
BEGIN:DAYLIGHT
TZOFFSETFROM:-0500
TZOFFSETTO:-0400
TZNAME:EDT
DTSTART:20260308T070000
END:DAYLIGHT
BEGIN:STANDARD
TZOFFSETFROM:-0400
TZOFFSETTO:-0500
TZNAME:EST
DTSTART:20261101T060000
END:STANDARD
END:VTIMEZONE
BEGIN:VEVENT
DTSTART;TZID=America/New_York:20251020T090000
DTEND;TZID=America/New_York:20251024T195900
DTSTAMP:20260422T070335
CREATED:20211005T215627Z
LAST-MODIFIED:20241113T193655Z
UID:20224-1760950800-1761335940@www.radioclub-carc.com
SUMMARY:School Club Roundup October
DESCRIPTION:School Club Roundup \nUTC Dates and Times for February Event\nStart:   Monday  February 10\, 2025 at 1300Z\nEnd:     Friday      February 14\, 2025 at 2359Z\nThe second full school week in February \n  \nUTC Dates and Times for October Event\nStart:    Monday  October 20\, 2025 at 1300Z\nEnd:      Friday      October 24\, 2025 at 2359Z\nThe third full school week in October \n  \nOperate no more than 6 hours per day (24 hour period)\nOperate no more than 24 hours total during the 107 hour contest period (Monday through Friday). \nContest Exchange:   RS(T) + Class + State/Province/Country \nClass Information:   Individual (I)\,   School Club or Group (S)\,   Non-School Club or Group  (C) \n  \nRules\, Scoring\, Reporting and lots of Additional Information on their website.\nInformation about printing your Participation Certificate appears on their website.\nFor your convenience\, please use our EVENT WEBSITE link. \nMost Importantly:  Have Fun !
URL:https://www.radioclub-carc.com/calendar/school-club-roundup-oct/
LOCATION:On-The-Air\, General Delivery\, Dillsburg\, PA\, United States
CATEGORIES:Contest,On-The-Air
END:VEVENT
BEGIN:VEVENT
DTSTART;TZID=America/New_York:20251024T200000
DTEND;TZID=America/New_York:20251026T195900
DTSTAMP:20260422T070335
CREATED:20210127T115338Z
LAST-MODIFIED:20250504T183239Z
UID:18731-1761336000-1761508740@www.radioclub-carc.com
SUMMARY:CQ WW DX Contest SSB
DESCRIPTION:CQ WW DX Contest SSB \nUTC Dates and Times\nBegin:  Saturday  October 25\, 2025   at 0000Z\nEnd:     Sunday     October 26\, 2025   at 2359Z \nAlways the last full weekend of October \nContest Sponsor:  World Wide Radio Operators Foundation \nEvent Website Link:  https://wwrof.org   and  https://cqww.com/ \n  \n  \n 
URL:https://www.radioclub-carc.com/calendar/cq-ww-dx-contest-ssb/
LOCATION:On-The-Air\, General Delivery\, Dillsburg\, PA\, United States
CATEGORIES:Contest,On-The-Air,SSB
END:VEVENT
END:VCALENDAR