BEGIN:VCALENDAR
VERSION:2.0
PRODID:-//Cumberland Amateur Radio Club - ECPv6.15.20//NONSGML v1.0//EN
CALSCALE:GREGORIAN
METHOD:PUBLISH
X-ORIGINAL-URL:https://www.radioclub-carc.com
X-WR-CALDESC:Events for Cumberland Amateur Radio Club
REFRESH-INTERVAL;VALUE=DURATION:PT1H
X-Robots-Tag:noindex
X-PUBLISHED-TTL:PT1H
BEGIN:VTIMEZONE
TZID:America/New_York
BEGIN:DAYLIGHT
TZOFFSETFROM:-0500
TZOFFSETTO:-0400
TZNAME:EDT
DTSTART:20240310T070000
END:DAYLIGHT
BEGIN:STANDARD
TZOFFSETFROM:-0400
TZOFFSETTO:-0500
TZNAME:EST
DTSTART:20241103T060000
END:STANDARD
BEGIN:DAYLIGHT
TZOFFSETFROM:-0500
TZOFFSETTO:-0400
TZNAME:EDT
DTSTART:20250309T070000
END:DAYLIGHT
BEGIN:STANDARD
TZOFFSETFROM:-0400
TZOFFSETTO:-0500
TZNAME:EST
DTSTART:20251102T060000
END:STANDARD
BEGIN:DAYLIGHT
TZOFFSETFROM:-0500
TZOFFSETTO:-0400
TZNAME:EDT
DTSTART:20260308T070000
END:DAYLIGHT
BEGIN:STANDARD
TZOFFSETFROM:-0400
TZOFFSETTO:-0500
TZNAME:EST
DTSTART:20261101T060000
END:STANDARD
END:VTIMEZONE
BEGIN:VEVENT
DTSTART;TZID=America/New_York:20251108T070000
DTEND;TZID=America/New_York:20251109T185900
DTSTAMP:20260422T035256
CREATED:20220226T204645Z
LAST-MODIFIED:20251002T024006Z
UID:21489-1762585200-1762714740@www.radioclub-carc.com
SUMMARY:SKCC Weekend Sprintathon (WES) November
DESCRIPTION:SKCC Weekend Sprintathon (WES) \nUTC Dates and Times\nBegin:  Saturday November 08\, 2025   at 1200Z\nEnd:     Sunday    November 09\, 2025   at  2359Z \nThe event follows the same UTC year-round.  The local time will change as Daylight Saving Time takes effect or ends.    \nEastern Standard Local Dates and Times\nBegins:   Saturday    07:00 a.m.\nEnds:       Sunday       06:59 p.m. \nEastern Daylight Saving Local Dates and Times\nBegins:   Saturday    08:00 a.m.\nEnds:       Sunday       07:59 p.m. \n  \nThis event repeats each month beginning on the second Saturday. \nOperate up to 36 hours. \nEvent Website:  https://www.skccgroup.com/operating_activities/weekend_sprintathon/ \n  \nThe SKCC Weekend Sprintathon often features some type of Bonus Points.\nNovember Theme — VETERANS\nSKCC Members who are Veterans will earn 5 Bonus Points for each QSO they make.\nVeterans will transmit their number of years of service as part of their Exchange.  This usually is done as part of the NAME/XX field.\nOn the receiving end\, Veterans and non-Veterans count the number of years of service sent to you as your Bonus Points. \n  \nSKCC runs a monthly activity\, which is a great environment for getting comfortable with contest-like CW QSOs. \nThe Weekend Sprintathon (WES) spans a weekend\, each with a fun theme for collecting bonus points.\nThese events provide a great opportunity for those seeking various SKCC recognition levels\, besides contacting friends old and new! \nTypically\, SKCC operators will QRS to the speed of the station calling them.
URL:https://www.radioclub-carc.com/calendar/skcc-weekend-sprintathon-nov/
LOCATION:On-The-Air\, General Delivery\, Dillsburg\, PA\, United States
CATEGORIES:Contest,CW,On-The-Air
END:VEVENT
BEGIN:VEVENT
DTSTART;TZID=America/New_York:20251108T100000
DTEND;TZID=America/New_York:20251108T120000
DTSTAMP:20260422T035256
CREATED:20191205T154929Z
LAST-MODIFIED:20250930T013252Z
UID:20854-1762596000-1762603200@www.radioclub-carc.com
SUMMARY:License Exam - Keystone VHF Club - November
DESCRIPTION:License Exams are offered on the Second Saturday of ODD Numbered months at 10:00 a.m. \nLicense Exam conducted by the Keystone VHF Club — W3HZU\nAdministration by Laurel Volunteer Examiner Coordinator — No Testing Fee.\nThe FCC does require a $35 fee for issuing a license after you have passed the license exam. \nFCC FRN (registration number) is required for testing.  Obtain your FRN prior to the date of the event. \nPre-Registration Preferred\nNote:  If no pre-registrations have been made by Thursday morning prior to the exam date the Exam Session will be cancelled without notice. \nSee Keystone VHF Club website for details of the Pre-Registration procedures.\nhttps://www.w3hzu.com/laurelVEC.php \n  \nKeystone VHF Club contact person:   Ralph Brandt\, K3HQI    eMail:  K3HQI@arrl.net   717.885.3063 \nExam Registration website:  https://www.yorktownshiprec.com\nEditor’s Note:  It is not clear to me how you register at this site.  You may need to contact Mr. Brandt for guidance.  (see above) \n  \n 
URL:https://www.radioclub-carc.com/calendar/license-exam-keystone-vhf-club-november/
LOCATION:York County Dept of Emergency Services\, 120 Davies Drive\, York\, PA\, 17402\, United States
CATEGORIES:License Exam
END:VEVENT
END:VCALENDAR