BEGIN:VCALENDAR
VERSION:2.0
PRODID:-//Cumberland Amateur Radio Club - ECPv6.15.20//NONSGML v1.0//EN
CALSCALE:GREGORIAN
METHOD:PUBLISH
X-WR-CALNAME:Cumberland Amateur Radio Club
X-ORIGINAL-URL:https://www.radioclub-carc.com
X-WR-CALDESC:Events for Cumberland Amateur Radio Club
REFRESH-INTERVAL;VALUE=DURATION:PT1H
X-Robots-Tag:noindex
X-PUBLISHED-TTL:PT1H
BEGIN:VTIMEZONE
TZID:America/New_York
BEGIN:DAYLIGHT
TZOFFSETFROM:-0500
TZOFFSETTO:-0400
TZNAME:EDT
DTSTART:20250309T070000
END:DAYLIGHT
BEGIN:STANDARD
TZOFFSETFROM:-0400
TZOFFSETTO:-0500
TZNAME:EST
DTSTART:20251102T060000
END:STANDARD
BEGIN:DAYLIGHT
TZOFFSETFROM:-0500
TZOFFSETTO:-0400
TZNAME:EDT
DTSTART:20260308T070000
END:DAYLIGHT
BEGIN:STANDARD
TZOFFSETFROM:-0400
TZOFFSETTO:-0500
TZNAME:EST
DTSTART:20261101T060000
END:STANDARD
BEGIN:DAYLIGHT
TZOFFSETFROM:-0500
TZOFFSETTO:-0400
TZNAME:EDT
DTSTART:20270314T070000
END:DAYLIGHT
BEGIN:STANDARD
TZOFFSETFROM:-0400
TZOFFSETTO:-0500
TZNAME:EST
DTSTART:20271107T060000
END:STANDARD
END:VTIMEZONE
BEGIN:VEVENT
DTSTART;TZID=America/New_York:20260206T190000
DTEND;TZID=America/New_York:20260208T185900
DTSTAMP:20260421T225744
CREATED:20200130T200126Z
LAST-MODIFIED:20251001T220445Z
UID:15844-1770404400-1770577140@www.radioclub-carc.com
SUMMARY:Vermont QSO Party
DESCRIPTION:Vermont QSO Party \nUTC Dates and Times:\nStart:  February 07\, 2026   at 0000Z\nEnd:    February 08\, 2026   at 2359Z     Operate for up to 48 hours \nContest Exchange:\nVermont Stations send Signal Report and Vermont County\nOut of State Stations send Signal Report and State \nVERMONT COUNTIES\n\n\n\nADD\nADDISON\n\n\nBEN\nBENNINGTON\n\n\nCAL\nCALEDONIA\n\n\nCHI\nCHITTENDEN\n\n\nESS\nESSEX\n\n\nFRA\nFRANKLIN\n\n\nGRA\nGRAND ISLE\n\n\nLAM\nLAMOILLE\n\n\nORA\nORANGE\n\n\nORL\nORLEANS\n\n\nRUT\nRUTLAND\n\n\nWAS\nWASHINGTON\n\n\nWNH\nWINDHAM\n\n\nWNS\nWINDSOR\n\n\n\nCW Operators:  Take care to not mix up Windham (WNH) and Windsor (WNS)!! \n  \nRules\, Scoring\, Reporting and lots of Additional Information on their website.\nFor your convenience\, please use our EVENT WEBSITE link \n 
URL:https://www.radioclub-carc.com/calendar/vermont-qso-party/
LOCATION:On-The-Air\, General Delivery\, Dillsburg\, PA\, United States
CATEGORIES:State QSO Party
END:VEVENT
BEGIN:VEVENT
DTSTART;TZID=America/New_York:20260207T090000
DTEND;TZID=America/New_York:20260207T160000
DTSTAMP:20260421T225744
CREATED:20250109T104506Z
LAST-MODIFIED:20260201T193637Z
UID:27006-1770454800-1770480000@www.radioclub-carc.com
SUMMARY:Middle Peninsula Hamfest
DESCRIPTION:  \nSponsored by the Middle Peninsula Amateur Radio Club \nhttps://mparchamfest.com/event-details/ \nSaturday February 7\, 2026    9:00 a.m. to 4:00 p.m. \nTalk-In  145.370 mHz    PL 100.0 Hz \n 
URL:https://www.radioclub-carc.com/calendar/middle-peninsula-hamfest/
LOCATION:Moose Lodge #886\, 6565 Moose Drive\, Gloucester\, VA\, 23061\, United States
CATEGORIES:Food Trucks,Hamfest,Tailgating
END:VEVENT
BEGIN:VEVENT
DTSTART;TZID=America/New_York:20260207T090000
DTEND;TZID=America/New_York:20260207T185900
DTSTAMP:20260421T225744
CREATED:20200130T201217Z
LAST-MODIFIED:20251001T220638Z
UID:15848-1770454800-1770490740@www.radioclub-carc.com
SUMMARY:Minnesota QSO Party
DESCRIPTION:Minnesota QSO Party \nUTC Dates and Times:\nBegin:  Saturday  February 07\, 2026 at 1400Z\nEnd:     Saturday  February 07\, 2026 at 2359Z   Operate for up to 10 hours \nAlways held the first Saturday of February \nRules\, Scoring\, Reporting and lots of Additional Information on their website.\nFor your convenience\, please use our EVENT WEBSITE link.\nUse their pull-down menu to see all the MN QSO PARTY web pages.
URL:https://www.radioclub-carc.com/calendar/minnesota-qso-party/
LOCATION:On-The-Air\, General Delivery\, Dillsburg\, PA\, United States
CATEGORIES:State QSO Party
END:VEVENT
BEGIN:VEVENT
DTSTART;TZID=America/New_York:20260207T110000
DTEND;TZID=America/New_York:20260208T185900
DTSTAMP:20260421T225744
CREATED:20200130T205103Z
LAST-MODIFIED:20251001T220836Z
UID:15860-1770462000-1770577140@www.radioclub-carc.com
SUMMARY:British Columbia QSO Party
DESCRIPTION:British Columbia QSO Party \nNote: The contest time period consists of two segments as shown below.\nOur Calendar View does not reflect the late-night gap. \nUTC Dates and Times: \nBegin1  February 07\, 2026    1600Z\nEnd1:    February 08\, 2026     0359Z    Operate for up to 12 hours \nBegin2:  February 08\, 2026   1600Z\nEnd2:     February 08\, 2026    2359Z    Operate for up to 8 hours \n  \nRules\, Scoring\, Reporting and lot of Additional Information on their website.\nFor your convenience\, please use our EVENT WEBSITE link. \nNote:  Please use the term “Federal Electoral District” instead of “County” \nBC’s Federal Electoral Districts\n\n\n\n\nABF	Abbotsford\nBNS	Burnaby North–Seymour\nBUS	Burnaby South\nCPG	Cariboo—Prince George\nCSN	Central Okanagan—Similkameen—Nicola\nCHP	Chilliwack–Hope\nCLC	Cloverdale–Langley City\nCPC	Coquitlam—Port Coquitlam\nCOA	Courtenay—Alberni\nCML	Cowichan–Malahat–Langford\nDEL	Delta\nESQ	Esquimalt–Saanich—Sooke \nFPK	Fleetwood—Port Kells\nKTC	Kamloops—Thompson—Cariboo\nKEL	Kelowna—Lake Country\nKOC	Kootenay—Columbia\nLAA	Langley—Aldergrove\nMMF	Mission—Matsqui—Fraser Canyon\nNAL	Nanaimo—Ladysmith\nNWB	New Westminster—Burnaby\nNPR	North Island—Powell River\nNOS	North Okanagan–Shuswap \nNVA	North Vancouver\nPMM	Pitt Meadows—Maple Ridge\nPMC	Port Moody—Coquitlam\nPPN	Prince George—Peace River—Northern  Rockies\nRIC	Richmond Center\nSGI	Saanich—Gulf Islands\nSBV	Skeena—Bulkley Valley\nSWK	South Okanagan—West Kootenay\nSWR	South Surrey—White Rock\nSTR	Steveston—Richmond East\nSUC	Surrey Centre\nSUN	Surrey—Newton\nVAC	Vancouver Centre\nVAE	Vancouver East\nVAK	Vancouver Kingsway\nVAQ	Vancouver Quadra\nVAS	Vancouver South \nVAG	Vancouver–Granville\nVIC	Victoria\nWVS	West Vancouver—Sunshine Coast—Sea to Sky Country\n\n\n\n\n  \n  \n 
URL:https://www.radioclub-carc.com/calendar/british-columbia-qso-party/
LOCATION:On-The-Air\, General Delivery\, Dillsburg\, PA\, United States
CATEGORIES:State QSO Party
END:VEVENT
END:VCALENDAR