BEGIN:VCALENDAR
VERSION:2.0
PRODID:-//Cumberland Amateur Radio Club - ECPv6.15.20//NONSGML v1.0//EN
CALSCALE:GREGORIAN
METHOD:PUBLISH
X-WR-CALNAME:Cumberland Amateur Radio Club
X-ORIGINAL-URL:https://www.radioclub-carc.com
X-WR-CALDESC:Events for Cumberland Amateur Radio Club
REFRESH-INTERVAL;VALUE=DURATION:PT1H
X-Robots-Tag:noindex
X-PUBLISHED-TTL:PT1H
BEGIN:VTIMEZONE
TZID:America/New_York
BEGIN:DAYLIGHT
TZOFFSETFROM:-0500
TZOFFSETTO:-0400
TZNAME:EDT
DTSTART:20250309T070000
END:DAYLIGHT
BEGIN:STANDARD
TZOFFSETFROM:-0400
TZOFFSETTO:-0500
TZNAME:EST
DTSTART:20251102T060000
END:STANDARD
BEGIN:DAYLIGHT
TZOFFSETFROM:-0500
TZOFFSETTO:-0400
TZNAME:EDT
DTSTART:20260308T070000
END:DAYLIGHT
BEGIN:STANDARD
TZOFFSETFROM:-0400
TZOFFSETTO:-0500
TZNAME:EST
DTSTART:20261101T060000
END:STANDARD
BEGIN:DAYLIGHT
TZOFFSETFROM:-0500
TZOFFSETTO:-0400
TZNAME:EDT
DTSTART:20270314T070000
END:DAYLIGHT
BEGIN:STANDARD
TZOFFSETFROM:-0400
TZOFFSETTO:-0500
TZNAME:EST
DTSTART:20271107T060000
END:STANDARD
END:VTIMEZONE
BEGIN:VEVENT
DTSTART;TZID=America/New_York:20260227T170000
DTEND;TZID=America/New_York:20260301T165900
DTSTAMP:20260421T212639
CREATED:20210104T182630Z
LAST-MODIFIED:20251001T231657Z
UID:18030-1772211600-1772384340@www.radioclub-carc.com
SUMMARY:CQ WW 160 Meter Contest SSB
DESCRIPTION:CQ World Wide 160 Meter SSB \nUTC Dates and Times:\nBegin:   February 27\, 2026   at 2200Z\nEnd:      March      01\, 2026   at 2159Z \nRules\, Scoring\, Reporting and a lot of Additional Information on their website.\nFor your convenience\, please use our EVENT WEBSITE link. \n  \nContest Sponsor:  World Wide Radio Operators Foundation\nWebsite URL:  https://wwrof.org \n  \n 
URL:https://www.radioclub-carc.com/calendar/cq-160-meter-contest-ssb/
LOCATION:On-The-Air\, General Delivery\, Dillsburg\, PA\, United States
CATEGORIES:Contest,On-The-Air,SSB
END:VEVENT
BEGIN:VEVENT
DTSTART;TZID=America/New_York:20260228T130000
DTEND;TZID=America/New_York:20260301T005900
DTSTAMP:20260421T212639
CREATED:20240107T160132Z
LAST-MODIFIED:20260101T212815Z
UID:24992-1772283600-1772326740@www.radioclub-carc.com
SUMMARY:North American QSO Party RTTY February
DESCRIPTION:UTC Dates and Times: \nFebruary Event NAQP RTTY \nStart:  Saturday  February 28\, 2026   at 1800Z\nEnd:    Sunday     March      01\, 2026   at 0559Z \nNote:  The NAQP RTTY February Event usually takes place the last Saturday of February. \n  \nJuly Event NAQP RTTY \nStart:   Saturday  July 18\, 2026   at 1800Z\nEnd:     Sunday     July 19\, 2026   at 0559Z \nNote:  The NAQP RTTY July Event usually takes place the third full weekend of July.
URL:https://www.radioclub-carc.com/calendar/north-american-qso-party-rtty-february/
LOCATION:On-The-Air\, General Delivery\, Dillsburg\, PA\, United States
CATEGORIES:Contest,On-The-Air,RTTY
END:VEVENT
BEGIN:VEVENT
DTSTART;TZID=America/New_York:20260301T100000
DTEND;TZID=America/New_York:20260301T195900
DTSTAMP:20260421T212639
CREATED:20200130T214312Z
LAST-MODIFIED:20251001T232639Z
UID:15872-1772359200-1772395140@www.radioclub-carc.com
SUMMARY:North Carolina QSO Party
DESCRIPTION:North Carolina QSO Party \nUTC Dates and Times:\nBegin:  March 01\, 2026  1500Z\nEnd:     March 02\, 2026   0059Z \nAlways the fourth Sunday in February (except 2026). \nRules\, Scoring\, Reporting and a lot of Additional Information on their website.\nFor your convenience\, please use our EVENT WEBSITE link. \n  \n 
URL:https://www.radioclub-carc.com/calendar/north-carolina-qso-party/
LOCATION:On-The-Air\, General Delivery\, Dillsburg\, PA\, United States
CATEGORIES:State QSO Party
END:VEVENT
END:VCALENDAR