BEGIN:VCALENDAR
VERSION:2.0
PRODID:-//Cumberland Amateur Radio Club - ECPv6.15.20//NONSGML v1.0//EN
CALSCALE:GREGORIAN
METHOD:PUBLISH
X-WR-CALNAME:Cumberland Amateur Radio Club
X-ORIGINAL-URL:https://www.radioclub-carc.com
X-WR-CALDESC:Events for Cumberland Amateur Radio Club
REFRESH-INTERVAL;VALUE=DURATION:PT1H
X-Robots-Tag:noindex
X-PUBLISHED-TTL:PT1H
BEGIN:VTIMEZONE
TZID:America/New_York
BEGIN:DAYLIGHT
TZOFFSETFROM:-0500
TZOFFSETTO:-0400
TZNAME:EDT
DTSTART:20250309T070000
END:DAYLIGHT
BEGIN:STANDARD
TZOFFSETFROM:-0400
TZOFFSETTO:-0500
TZNAME:EST
DTSTART:20251102T060000
END:STANDARD
BEGIN:DAYLIGHT
TZOFFSETFROM:-0500
TZOFFSETTO:-0400
TZNAME:EDT
DTSTART:20260308T070000
END:DAYLIGHT
BEGIN:STANDARD
TZOFFSETFROM:-0400
TZOFFSETTO:-0500
TZNAME:EST
DTSTART:20261101T060000
END:STANDARD
BEGIN:DAYLIGHT
TZOFFSETFROM:-0500
TZOFFSETTO:-0400
TZNAME:EDT
DTSTART:20270314T070000
END:DAYLIGHT
BEGIN:STANDARD
TZOFFSETFROM:-0400
TZOFFSETTO:-0500
TZNAME:EST
DTSTART:20271107T060000
END:STANDARD
END:VTIMEZONE
BEGIN:VEVENT
DTSTART;TZID=America/New_York:20260314T080000
DTEND;TZID=America/New_York:20260315T195900
DTSTAMP:20260421T212646
CREATED:20220217T204856Z
LAST-MODIFIED:20251002T023146Z
UID:21418-1773475200-1773604740@www.radioclub-carc.com
SUMMARY:SKCC Weekend Sprintathon (WES) March
DESCRIPTION:SKCC Weekend Sprintathon (WES) March \nUTC Dates and Times\nBegin:  Saturday March 14\, 2026   at 1200Z\nEnd:     Sunday    March 15\, 2026   at  2359Z \nThe event follows the same UTC year-round.  The local time will change as Daylight Saving Time takes effect or ends.    \nEastern Standard Local Dates and Times\nBegins:   Saturday    07:00 a.m.\nEnds:       Sunday       06:59 p.m. \nEastern Daylight Saving Local Dates and Times\nBegins:   Saturday    08:00 a.m.\nEnds:       Sunday       07:59 p.m. \n  \nThis event repeats each month beginning on the second Saturday.\nOperate up to 36 hours. \nNOTE:  Daylight Saving Time will have taken effect prior to this event\nIf you use our UTC Dates and Times (on this page) you will be “right on track”. \n  \nThe SKCC Weekend Sprintathon often features some type of Bonus Points.\nMarch theme — Bug and Cootie keys (Sideswiper hand key)\nBonus points will be earned by contacting stations that are using a bug or cootie (sideswiper). \nStations using one of those keys should make note in their exchange by sending name/b (for BUG) or name/ss (for SIDESWIPER (cootie). \n  \nSKCC runs a monthly activity\, which is a great environment for getting comfortable with contest-like CW QSOs. \nThe Weekend Sprintathon (WES) spans a weekend\, each with a fun theme for collecting bonus points.\nThese events provide a great opportunity for those seeking various SKCC recognition levels\, besides contacting friends old and new! \nTypically\, SKCC operators will QRS to the speed of the station calling them.
URL:https://www.radioclub-carc.com/calendar/skcc-weekend-sprintathon-mar/
LOCATION:On-The-Air\, General Delivery\, Dillsburg\, PA\, United States
CATEGORIES:Contest,CW,On-The-Air
END:VEVENT
BEGIN:VEVENT
DTSTART;TZID=America/New_York:20260314T100000
DTEND;TZID=America/New_York:20260314T120000
DTSTAMP:20260421T212646
CREATED:20191205T154929Z
LAST-MODIFIED:20250930T012815Z
UID:20850-1773482400-1773489600@www.radioclub-carc.com
SUMMARY:License Exam - Keystone VHF Club - March
DESCRIPTION:License Exams are offered on the Second Saturday of ODD Numbered months at 10:00 a.m. \nLicense Exam conducted by the Keystone VHF Club — W3HZU\nAdministration by Laurel Volunteer Examiner Coordinator — No Testing Fee.\nThe FCC does require a $35 fee for issuing a license after you have passed the license exam. \nFCC FRN (registration number) is required for testing.  Obtain your FRN prior to the date of the event. \nPre-Registration Preferred\nNote:  If no pre-registrations have been made by Thursday morning prior to the exam date the Exam Session will be cancelled without notice. \nSee Keystone VHF Club website for details of the Pre-Registration procedures.\nhttps://www.w3hzu.com/laurelVEC.php \n  \nKeystone VHF Club contact person:  Ralph Brandt\, K3HQI   eMail:  K3HQI@arrl.net   717.885.3063 \nExam Registration website:  https://www.yorktownshiprec.com\nEditor’s Note:  It is not clear to me how you register at this site.  You may need to contact Mr. Brandt for guidance.  (see above) \n  \n 
URL:https://www.radioclub-carc.com/calendar/license-exam-keystone-vhf-club-march/
LOCATION:York County Dept of Emergency Services\, 120 Davies Drive\, York\, PA\, 17402\, United States
CATEGORIES:License Exam
END:VEVENT
BEGIN:VEVENT
DTSTART;TZID=America/New_York:20260314T110000
DTEND;TZID=America/New_York:20260315T180000
DTSTAMP:20260421T212646
CREATED:20200131T143855Z
LAST-MODIFIED:20251001T233938Z
UID:15885-1773486000-1773597600@www.radioclub-carc.com
SUMMARY:Oklahoma QSO Party
DESCRIPTION:Oklahoma QSO Party (OKQP) \nNote #1:  Our Calendar View does not represent the two segment scheduling for this event.\nThe UTC Dates and Times shown below properly reflect the overnight gap. \n  \nUTC Dates and Times:\nBegin1:   Saturday March 14\, 2026  1500Z\nEnd1:       Sunday   March 15\, 2026  0200Z \nBegin2:   Sunday   March 15\, 2026  1500Z\nEnd2:       Sunday   March 15\, 2026  2100Z \nRules\, Scoring\, Reporting and lots of Additional Information appear on their website.\nFor your convenience\, please use our EVENT WEBSITE link. \n 
URL:https://www.radioclub-carc.com/calendar/oklahoma-qso-party/
LOCATION:On-The-Air\, General Delivery\, Dillsburg\, PA\, United States
CATEGORIES:State QSO Party
END:VEVENT
BEGIN:VEVENT
DTSTART;TZID=America/New_York:20260314T150000
DTEND;TZID=America/New_York:20260315T145900
DTSTAMP:20260421T212646
CREATED:20200131T144058Z
LAST-MODIFIED:20251001T234050Z
UID:15888-1773500400-1773586740@www.radioclub-carc.com
SUMMARY:Idaho QSO Party
DESCRIPTION: Idaho QSO Party — The SPUD RUN \nUTC Dates and Times:\nBegin:  Saturday March 14\, 2026  1900Z\nEnd:     Sunday    March 15\, 2026  1859Z \nAlways the second full weekend in March. \nTotal Operating Time is stated as 24 Hours from Start to Finish. \n\n\nRules\, Scoring\, Reporting and lots of Additional Information on their website.\nFor your convenience\, please use our EVENT WEBSITE link. \n 
URL:https://www.radioclub-carc.com/calendar/idaho-qso-party/
LOCATION:On-The-Air\, General Delivery\, Dillsburg\, PA\, United States
CATEGORIES:State QSO Party
END:VEVENT
END:VCALENDAR