BEGIN:VCALENDAR
VERSION:2.0
PRODID:-//Cumberland Amateur Radio Club - ECPv6.15.20//NONSGML v1.0//EN
CALSCALE:GREGORIAN
METHOD:PUBLISH
X-ORIGINAL-URL:https://www.radioclub-carc.com
X-WR-CALDESC:Events for Cumberland Amateur Radio Club
REFRESH-INTERVAL;VALUE=DURATION:PT1H
X-Robots-Tag:noindex
X-PUBLISHED-TTL:PT1H
BEGIN:VTIMEZONE
TZID:America/New_York
BEGIN:DAYLIGHT
TZOFFSETFROM:-0500
TZOFFSETTO:-0400
TZNAME:EDT
DTSTART:20250309T070000
END:DAYLIGHT
BEGIN:STANDARD
TZOFFSETFROM:-0400
TZOFFSETTO:-0500
TZNAME:EST
DTSTART:20251102T060000
END:STANDARD
BEGIN:DAYLIGHT
TZOFFSETFROM:-0500
TZOFFSETTO:-0400
TZNAME:EDT
DTSTART:20260308T070000
END:DAYLIGHT
BEGIN:STANDARD
TZOFFSETFROM:-0400
TZOFFSETTO:-0500
TZNAME:EST
DTSTART:20261101T060000
END:STANDARD
BEGIN:DAYLIGHT
TZOFFSETFROM:-0500
TZOFFSETTO:-0400
TZNAME:EDT
DTSTART:20270314T070000
END:DAYLIGHT
BEGIN:STANDARD
TZOFFSETFROM:-0400
TZOFFSETTO:-0500
TZNAME:EST
DTSTART:20271107T060000
END:STANDARD
END:VTIMEZONE
BEGIN:VEVENT
DTSTART;TZID=America/New_York:20260321T070000
DTEND;TZID=America/New_York:20260321T120000
DTSTAMP:20260421T212811
CREATED:20230307T224232Z
LAST-MODIFIED:20260131T161643Z
UID:23522-1774076400-1774094400@www.radioclub-carc.com
SUMMARY:FredFest
DESCRIPTION:*** NEW LOCATION with LOTS of parking ***\nAMVETS Post #2 FARM\n9602 Baltimore Rd\nFrederick\, MD  21704\nThe Farm is about one minute off of Interstate 70\, just east of the Monocacy River.  \n  \nEvent Date:  Saturday March 21\, 2026\n8:00 a.m. to Noon \n\nGeneral Admission is $7.00\, with kids under 18 free.\nTables are $15 for first table\, and $10 for each additional\, and includes admission for one person\nSeller setup begins at 06:45 am\, doors open to the public at 8:00 am\nWe are accepting table reservations – email K3MMM@arrl.net to reserve yours\nRaffle prizes throughout the morning – must be present to win\nDid we mention lots and lots of parking?\nTalk in on 146.73 (negative offset PL 141.3)\n\nIndoor Tailgating \nQuestions?\nContact Mike Forrence:\nk3mmm@arrl.net\nfrederickarc.org/fredfest26 \n  \n 
URL:https://www.radioclub-carc.com/calendar/fredfest/
LOCATION:Independent Hose Company\, 310 Baughmans Lane\, Frederick\, MD\, 21702\, United States
CATEGORIES:Hamfest,Tailgating
END:VEVENT
BEGIN:VEVENT
DTSTART;TZID=America/New_York:20260321T093000
DTEND;TZID=America/New_York:20260321T113000
DTSTAMP:20260421T212811
CREATED:20191205T151408Z
LAST-MODIFIED:20250930T025430Z
UID:20806-1774085400-1774092600@www.radioclub-carc.com
SUMMARY:License Exam - Cross Keys Village - March
DESCRIPTION:Cross Keys Village Amateur Radio Club — W3CKV\nIn conjunction with\nAdams County Amateur Radio Society — W3KGN \nLicense Exams are offered on the Third Saturday of ODD Numbered months at 9:30 a.m. \nLicense Exams are conducted in the Harmony Ridge Community Center\, Encore Room\n2990 Carlisle Pike\, New Oxford\, PA  17350 \nPre-Registration and an FCC FRN are required prior to the day of the event.\nPre-Registration Online Form can be found at:   https://www.w3kgn.org    Look for “VE Examinations” in the left-side menu bar. \nContact Person:  Perry Wood    eMail: ckvarc.ve.testing@gmail.com \nThis exam will be conducted under the authority of the Laurel Volunteer Exam Coordinator. \nLaurel VEC does not charge a testing fee for administering license exams.\nNote:  The Federal Communications Commission (FCC) has a $35 fee which must be paid before a new license or renewal is issued. \n  \n  \n  \n  \n 
URL:https://www.radioclub-carc.com/calendar/license-exam-cross-keys-village-march/
LOCATION:Harmony Ridge Community Center\, 620 Harmony Drive\, New Oxford\, PA\, United States
CATEGORIES:License Exam
END:VEVENT
BEGIN:VEVENT
DTSTART;TZID=America/New_York:20260321T100000
DTEND;TZID=America/New_York:20260322T195900
DTSTAMP:20260421T212811
CREATED:20200131T155615Z
LAST-MODIFIED:20251001T235210Z
UID:15901-1774087200-1774209540@www.radioclub-carc.com
SUMMARY:Virginia QSO Party
DESCRIPTION:Virginia QSO Party \nOur Calendar View does not represent the two-segment scheduling for this event.\nThe UTC Dates and Times information\, shown below\, correctly show the overnight gap. \nUTC Dates and Times:\nBegin1:   Saturday March 21\, 2026  1400Z\nEnd1:       Sunday    March 22\, 2026  0400Z \nBegin2:   Sunday    March 22\, 2026 1200Z\nEnd2:       Sunday   March 22\, 2026 2359Z \nAlways held the third full weekend of March \n  \nRules\, Scoring\, Reporting and lots of Additional Information on their website.\nFor your convenience\, please use our EVENT WEBSITE link. \n 
URL:https://www.radioclub-carc.com/calendar/virginia-qso-party/
LOCATION:On-The-Air\, General Delivery\, Dillsburg\, PA\, United States
CATEGORIES:State QSO Party
END:VEVENT
END:VCALENDAR