BEGIN:VCALENDAR
VERSION:2.0
PRODID:-//Cumberland Amateur Radio Club - ECPv6.15.20//NONSGML v1.0//EN
CALSCALE:GREGORIAN
METHOD:PUBLISH
X-WR-CALNAME:Cumberland Amateur Radio Club
X-ORIGINAL-URL:https://www.radioclub-carc.com
X-WR-CALDESC:Events for Cumberland Amateur Radio Club
REFRESH-INTERVAL;VALUE=DURATION:PT1H
X-Robots-Tag:noindex
X-PUBLISHED-TTL:PT1H
BEGIN:VTIMEZONE
TZID:UTC
BEGIN:STANDARD
TZOFFSETFROM:+0000
TZOFFSETTO:+0000
TZNAME:UTC
DTSTART:20250101T000000
END:STANDARD
END:VTIMEZONE
BEGIN:VEVENT
DTSTART;TZID=UTC:20260324T200000
DTEND;TZID=UTC:20260324T220000
DTSTAMP:20260421T212645
CREATED:20251002T030627Z
LAST-MODIFIED:20251002T030627Z
UID:28315-1774382400-1774389600@www.radioclub-carc.com
SUMMARY:SKCC Straight Key Sprint (SKS) March
DESCRIPTION:SKCC Straight Key Sprint (SKS) \nUTC Date and Time:\nBegin:   Wednesday   March 25\, 2026   0000 Z\nEnd:      Wednesday   March 25\, 2026   0200 Z \nAlways the 4th Wednesday UTC at 0000Z for two hours. \nThe event follows the same UTC year-round.  The local time will change as Daylight Saving Time takes effect or ends.    \nEastern Standard — Local Dates and Times\nBegins:   Tuesday      07:00 p.m.\nEnds:       Tuesday      08:59 p.m. \nEastern Daylight Saving — Local Dates and Times\nBegins:   Tuesday      08:00 p.m.\nEnds:       Tuesday      09:59 p.m. \n  \nExchange:   RST\, QTH (State)\, Name\, SKCC Number \nEvent Web Site Link:  https://www.skccgroup.com/operating_activities/weekday_sprint/ \n 
URL:https://www.radioclub-carc.com/calendar/skcc-straight-key-sprint-sks-march/
LOCATION:On-The-Air\, General Delivery\, Dillsburg\, PA\, United States
CATEGORIES:Contest,CW,On-The-Air
END:VEVENT
END:VCALENDAR