BEGIN:VCALENDAR
VERSION:2.0
PRODID:-//Cumberland Amateur Radio Club - ECPv6.15.20//NONSGML v1.0//EN
CALSCALE:GREGORIAN
METHOD:PUBLISH
X-ORIGINAL-URL:https://www.radioclub-carc.com
X-WR-CALDESC:Events for Cumberland Amateur Radio Club
REFRESH-INTERVAL;VALUE=DURATION:PT1H
X-Robots-Tag:noindex
X-PUBLISHED-TTL:PT1H
BEGIN:VTIMEZONE
TZID:America/New_York
BEGIN:DAYLIGHT
TZOFFSETFROM:-0500
TZOFFSETTO:-0400
TZNAME:EDT
DTSTART:20250309T070000
END:DAYLIGHT
BEGIN:STANDARD
TZOFFSETFROM:-0400
TZOFFSETTO:-0500
TZNAME:EST
DTSTART:20251102T060000
END:STANDARD
BEGIN:DAYLIGHT
TZOFFSETFROM:-0500
TZOFFSETTO:-0400
TZNAME:EDT
DTSTART:20260308T070000
END:DAYLIGHT
BEGIN:STANDARD
TZOFFSETFROM:-0400
TZOFFSETTO:-0500
TZNAME:EST
DTSTART:20261101T060000
END:STANDARD
BEGIN:DAYLIGHT
TZOFFSETFROM:-0500
TZOFFSETTO:-0400
TZNAME:EDT
DTSTART:20270314T070000
END:DAYLIGHT
BEGIN:STANDARD
TZOFFSETFROM:-0400
TZOFFSETTO:-0500
TZNAME:EST
DTSTART:20271107T060000
END:STANDARD
END:VTIMEZONE
BEGIN:VEVENT
DTSTART;VALUE=DATE:20260418
DTEND;VALUE=DATE:20260419
DTSTAMP:20260421T194941
CREATED:20210222T085034Z
LAST-MODIFIED:20251229T024912Z
UID:19074-1776470400-1776556799@www.radioclub-carc.com
SUMMARY:World Amateur Radio Day
DESCRIPTION:World Amateur Radio Day\n\n\nEvery April 18\, radio amateurs worldwide take to the airwaves in celebration of World Amateur Radio Day. It was on this day in 1925 that the International Amateur Radio Union was formed in Paris. \nAmateur Radio experimenters were the first to discover that the short wave spectrum — far from being a wasteland — could support worldwide propagation. In the rush to use these shorter wavelengths\, Amateur Radio was “in grave danger of being pushed aside\,” the IARU’s history has noted. Amateur Radio pioneers met in Paris in 1925 and created the IARU to support Amateur Radio worldwide. \nJust two years later\, at the International Radiotelegraph Conference\, Amateur Radio gained the allocations still recognized today — 160\, 80\, 40\, 20\, and 10 meters. Since its founding\, the IARU has worked tirelessly to defend and expand the frequency allocations for Amateur Radio. Thanks to the support of enlightened administrations in every part of the globe\, radio amateurs are now able to experiment and communicate in frequency bands strategically located throughout the radio spectrum. From the 25 countries that formed the IARU in 1925\, the IARU has grown to include 160 member-societies in three regions. IARU Region 1 includes Europe\, Africa\, the Middle East\, and Northern Asia. Region 2 covers the Americas\, and Region 3 is comprised of Australia\, New Zealand\, the Pacific island nations\, and most of Asia. The International Telecommunication Union (ITU) has recognized the IARU as representing the interests of Amateur Radio. \nToday\, Amateur Radio is more popular than ever\, with more than 3\,000\,000 licensed operators! \nWorld Amateur Radio Day is the day when IARU Member-Societies can show our capabilities to the public and enjoy global friendship with other Amateurs worldwide. \n  \nIARU web site — https://www.iaru.org/on-the-air/world-amateur-radio-day/ \nARRL web site — https://www.arrl.org/world-amateur-radio-day/ \n#####
URL:https://www.radioclub-carc.com/calendar/world-amateur-radio-day/
LOCATION:On-The-Air\, General Delivery\, Dillsburg\, PA\, United States
CATEGORIES:Milestone,On-The-Air
END:VEVENT
BEGIN:VEVENT
DTSTART;TZID=America/New_York:20260418T070000
DTEND;TZID=America/New_York:20260419T185900
DTSTAMP:20260421T194941
CREATED:20210107T150500Z
LAST-MODIFIED:20260101T214932Z
UID:18114-1776495600-1776625140@www.radioclub-carc.com
SUMMARY:Nebraska QSO Party
DESCRIPTION:Nebraska QSO Party \nUTC Dates and Times \nBegin:     Saturday April 18\, 2026   at 1100Z\nEnd:         Sunday   April 19\, 2026   at 2259Z \n  \nNebraska QP event dates have not yet been posted by the event sponsor.  Any dates shown in this website are tentative. \nMore information at the Contest Sponsor’s website.\nWe invite you to use our link for your convenience. \n  \n  \n 
URL:https://www.radioclub-carc.com/calendar/nebraska-qso-party/
LOCATION:On-The-Air\, General Delivery\, Dillsburg\, PA\, United States
CATEGORIES:Pending Info Update,State QSO Party
END:VEVENT
BEGIN:VEVENT
DTSTART;TZID=America/New_York:20260418T080000
DTEND;TZID=America/New_York:20260418T150000
DTSTAMP:20260421T194941
CREATED:20220314T115631Z
LAST-MODIFIED:20260129T025148Z
UID:21626-1776499200-1776524400@www.radioclub-carc.com
SUMMARY:Delmarva Amateur Radio and Electronics EXPO
DESCRIPTION:Delmarva Amateur Radio and Electronics EXPO \nARRL Delaware State Convention\nGeorgetown Hamfest \nSee you on April 18\, 2026   New Date!  New Location! \nTalk-In:  147.090 MHz   PL:  156.7 Hz \n  \nRain or Shine\nGates Open at 6:00 a.m.\nTailgating starts at 7:30 a.m.\nIndoor Venue doors open at 8:00 a.m.\nEvent ends at 3:00 p.m. \nAdmission $10.00   Under Age 18 FREE\nTailgate Space $10.00 first space\, $10.00 each additional space.    Note: New\, Lower Price for Tailgate Space\nIndoor Table $20.00 first table\,  \n  \nThe DELMARVA Electronics Expo and Delaware ARRL State Convention is Saturday\, April 18\, 2026\,\nat the SUSSEX ACADEMY\, 21150 Airport Road in Georgetown\, Delaware  19947. \nMake plans to be part of this great event! \nSome of the highlights include: \n-Lots of PAVED parking. \n– Tailgating…lots of spaces. \n– Commercial Vendors…including HRO and more \n-Great Raffle Prizes \n-Silent Auction \n-Speakers and Forums \n– ARRL State Convention… keynote speakers from the League \n– License Testing at 9:00 a.m.  Laurel VEC — NO CHARGE FOR TESTING\n  Pre-Registration (required) for testing.  eMail:  herbquick55@gmail.com\n (Additional details of the License Testing have been provided and appear below.) \n– Delicious food available on site!\n– AND\, MUCH MORE… \nDon’t forget…the best part of any Hamfest is seeing your old friends and meeting the folks you’ve talked\nto\, but have never met. Here’s your chance! \nFor more information\, go to www.radioelectronicsexpo.com \nOr contact Hamfest Chairman Jamie Ashton\, W3UC\,\n(410) 202-7690\, or hamfestdelaware@gmail.com \n  \n  \nHere are the additional details of the License Exam Testing mentioned above: \nSussex Amateur Radio Testing Team   SARTT\nA Laurel-VEC Volunteer Examination Team \nTesting session begins at 9:00 AM on Saturday\, April 18\, 2026.\nThere will be no exam seating after 9:30 AM. \n  \n Pre-Registration Instructions \nApplicants Must Pre-Register By Wednesday\, April 15\, 2026\n \nThere is no exam fee. \nApplicants are not required to pay an entrance fee to access the testing classroom. \nEntrance fee is for indoor hamfest venue only. \nRetakes and additional tests are at the discretion of the examination team (SARTT) \nPre-registration required: \n\n​Go to  https://hamstudy.org/sessions/inperson\n​             April 18\, 2026\n​             Sussex Amateur Radio Testing Team\n​             Georgetown\, DE Hamfest\n             Click Green Bar\n             Register\n\n​                        \nTest applicants: \nBe sure to obtain an FCC Registration Number (FRN) from the FCC CORES website prior to the exam session.\nhttps://apps.fcc.gov/cores/userLogin.do?btnContinue=true \nBe sure to bring a photo I.D.\, and your FRN Number\, pen\, pencil\, and a signed copy of your FCC Amateur license.  \nCalculators must be checked by VEs to make sure nothing is stored in memory.  Cell phones may not be used as calculators and must be turned off while exams are being administered.  Electronic devices must be turned off and may not be visible to the applicant during the exam. \nSocial Security Numbers will not be accepted. \nNo test seating after 9:30 AM. \nIf you are subject to the $35.00 FCC administration fee: \n​1. Once your application is assigned a File Number\, you may pay your application fee. The FCC will send\nyou an email notifying you when that happens.  You have a 10 day window of opportunity to settle your fee.\n \nThe Volunteer Examiner Team has no input into in the administrative fee process! \n\n2. In order to pay your application fee\, you must be registered in CORES.\n \n\n2.1. If you are applying for a new license\, you already registered in CORES when you applied for your\nFRN\, and your Username is already associated to your FRN. For instructions on how to pay your\napplication fee\, proceed directly to Section 4 (page 5).\n \n\n2.2. If you are already licensed and are applying to renew your license\, you must register in the new\nversion of CORES and associate your Username to your FRN because the “legacy” version of CORES\nwas retired on July 15\, 2022.\n \n\n2.3. The new version of CORES requires users to have a Username and Password before they can do\nthe following:\n Link your registered username to an existing FRN.\n View & Pay Regulatory Fees\, Application Fees\, and Bills | View Red & Green light status.\n Register and receive a new FRN (including Restricted Use FRN).\n Reset/update your FRN password.\n Apply for a 10-digit FCC Registration Number (FRN).\n Search for public FRN information.\n Update your username profile.\n \n Use “License Manager” to renew your license\, change their call sign systematically\, apply for a\nVanity call sign\, etc.\, online: https://wireless2.fcc.gov/UlsEntry/licManager/login.jsp\n \n\n3. Register in CORES. If you have an FRN but do not have a CORES username and password\, you must\nregister in the new CORES. Go to this website to register: https://apps.fcc.gov/cores/userLogin.do \n  \nAdministrative upgrades: \nAn applicant must already be licensed  or pass the Element 2 exam to receive “Grandfathered” Element credit(s). \nThe following may be used as proof that an applicant is authorized to receive credit for an exam element: \n  a) An original expired or photocopy of an expired license. \n  b) A letter from the FCC indicating the applicant had previously been granted a specific class of license and  \n      the date of the license grant (e.g.\, a specific date or a statement that includes “…prior to 21 March 1987”. \n  c) A CSCE that indicates the applicant passed one or more exam elements within the previous 365 days. \n      An expired CSCE is not acceptable proof of any exam Element credit. \n  d) A CSCE with “pen and ink” changes may not be accepted as acceptable proof for any Element credit. \n  e) A printed reference copy of an expired and cancelled license from the FCC’s ULS website that indicates \n      the applicant was previously granted a General\, Advanced\, or Amateur Extra Class license. \n​  f) A screen print  from the 1993 QRZ Database (www.qrz.com/db/1993/).  This database only contains calls granted between 1983 and 1993. \n  g) a copy of the cover and applicable page from a Call Sign book\, showing date of publication\, the applicant’s name\, call sign\, and class of license. \n  h) Teams may verify an applicant’s current license by accessing the FCC’s ULS website or using the Laurel-VEC  Session Manager software during the registration process of the exam. \n  i)  No other form of documentation is acceptable. \nEND
URL:https://www.radioclub-carc.com/calendar/delmarva-radio-and-electronics-expo/
LOCATION:Sussex Academy\, 21150 Airport Road\, Georgetown\, 19947\, United States
CATEGORIES:Convention,Hamfest,License Exam,Pending Info Update,QSL Card Checking,Tailgating
END:VEVENT
BEGIN:VEVENT
DTSTART;TZID=America/New_York:20260418T090000
DTEND;TZID=America/New_York:20260418T120000
DTSTAMP:20260421T194941
CREATED:20181223T212641Z
LAST-MODIFIED:20250930T002505Z
UID:20845-1776502800-1776513600@www.radioclub-carc.com
SUMMARY:License Exam - HRAC - April
DESCRIPTION:Harrisburg Radio Amateur Club — HRAC \nLicense Exam Schedule:   The third Saturday of EVEN numbered months.  Testing starts at 9 a.m. \nHRAC is part of the Laurel Volunteer Examiner group and administers Amateur Radio License Tests without a testing fee.\nNote:  The Federal Communications Commission (FCC) has a $35 fee which must be paid before the license is issued. \nVisit the HRAC website http://www.w3uu.org/license-exams to confirm the dates\, times and locations as well as the possibility of additional License Exam dates. \nPre-Registration including FCC FRN Required.  Visit their website http://www.w3uu.org/license-exams for complete information. \n  \nIf you have questions or need assistance with license exam registration please see the form in the bottom left corner of the web page http://www.w3uu.org/license-exams\nAnswer the questions and press SUBMIT. \n  \n 
URL:https://www.radioclub-carc.com/calendar/license-exam-hrac-april/
LOCATION:Vietnam Veterans of America\, 8000 Derry St\, Harrisburg\, PA\, 17111\, United States
CATEGORIES:License Exam
END:VEVENT
BEGIN:VEVENT
DTSTART;TZID=America/New_York:20260418T120000
DTEND;TZID=America/New_York:20260418T235900
DTSTAMP:20260421T194941
CREATED:20200131T193330Z
LAST-MODIFIED:20251003T142837Z
UID:15919-1776513600-1776556740@www.radioclub-carc.com
SUMMARY:Michigan QSO Party
DESCRIPTION:Michigan QSO Party \nUTC Dates and Times:\nBegin:  April 18\, 2026  1600Z\nEnd:     April 19\, 2026  0359Z \nOperate up to 12 hours. \nExchange:  In-State Stations will transmit RST and their Michigan County.\n                    Out-of-State Stations will transmit RST and their State\, Province\, or the letters DX. \nRules\, Scoring\, Reporting and a lot of Additional Information on their website.\nFor your convenience\, please use our EVENT WEBSITE link. \n 
URL:https://www.radioclub-carc.com/calendar/michigan-qso-party/
LOCATION:On-The-Air\, General Delivery\, Dillsburg\, PA\, United States
CATEGORIES:State QSO Party
END:VEVENT
BEGIN:VEVENT
DTSTART;TZID=America/New_York:20260418T140000
DTEND;TZID=America/New_York:20260419T135900
DTSTAMP:20260421T194941
CREATED:20200131T193630Z
LAST-MODIFIED:20251003T023210Z
UID:15923-1776520800-1776607140@www.radioclub-carc.com
SUMMARY:Ontario QSO Party
DESCRIPTION:Ontario QSO Party \nThe Calendar View does not represent the two-segment operating period for this contest.\nThe UTC Dates and Times\, shown below\, do capture and show the two operating periods. \nUTC Dates and Times:\nBegin1:  Saturday  April 18\, 2026  1800Z\nEnd1:     Sunday      April 19\, 2026  0459Z \nBegin2:  Sunday     April 19\, 2026  1200Z\nEnd2:     Sunday     April 19\, 2026  1759Z \n  \nThe Third Full Weekend of April \nRules\, Scoring\, Reporting and a lot of Additional Information on their website.\nFor your convenience\, please use our EVENT WEBSITE link. \n 
URL:https://www.radioclub-carc.com/calendar/ontario-qso-party/
LOCATION:On-The-Air\, General Delivery\, Dillsburg\, PA\, United States
CATEGORIES:State QSO Party
END:VEVENT
END:VCALENDAR