BEGIN:VCALENDAR
VERSION:2.0
PRODID:-//Cumberland Amateur Radio Club - ECPv6.15.20//NONSGML v1.0//EN
CALSCALE:GREGORIAN
METHOD:PUBLISH
X-ORIGINAL-URL:https://www.radioclub-carc.com
X-WR-CALDESC:Events for Cumberland Amateur Radio Club
REFRESH-INTERVAL;VALUE=DURATION:PT1H
X-Robots-Tag:noindex
X-PUBLISHED-TTL:PT1H
BEGIN:VTIMEZONE
TZID:America/New_York
BEGIN:DAYLIGHT
TZOFFSETFROM:-0500
TZOFFSETTO:-0400
TZNAME:EDT
DTSTART:20250309T070000
END:DAYLIGHT
BEGIN:STANDARD
TZOFFSETFROM:-0400
TZOFFSETTO:-0500
TZNAME:EST
DTSTART:20251102T060000
END:STANDARD
BEGIN:DAYLIGHT
TZOFFSETFROM:-0500
TZOFFSETTO:-0400
TZNAME:EDT
DTSTART:20260308T070000
END:DAYLIGHT
BEGIN:STANDARD
TZOFFSETFROM:-0400
TZOFFSETTO:-0500
TZNAME:EST
DTSTART:20261101T060000
END:STANDARD
BEGIN:DAYLIGHT
TZOFFSETFROM:-0500
TZOFFSETTO:-0400
TZNAME:EDT
DTSTART:20270314T070000
END:DAYLIGHT
BEGIN:STANDARD
TZOFFSETFROM:-0400
TZOFFSETTO:-0500
TZNAME:EST
DTSTART:20271107T060000
END:STANDARD
END:VTIMEZONE
BEGIN:VEVENT
DTSTART;TZID=America/New_York:20260418T070000
DTEND;TZID=America/New_York:20260419T185900
DTSTAMP:20260421T210312
CREATED:20210107T150500Z
LAST-MODIFIED:20260101T214932Z
UID:18114-1776495600-1776625140@www.radioclub-carc.com
SUMMARY:Nebraska QSO Party
DESCRIPTION:Nebraska QSO Party \nUTC Dates and Times \nBegin:     Saturday April 18\, 2026   at 1100Z\nEnd:         Sunday   April 19\, 2026   at 2259Z \n  \nNebraska QP event dates have not yet been posted by the event sponsor.  Any dates shown in this website are tentative. \nMore information at the Contest Sponsor’s website.\nWe invite you to use our link for your convenience. \n  \n  \n 
URL:https://www.radioclub-carc.com/calendar/nebraska-qso-party/
LOCATION:On-The-Air\, General Delivery\, Dillsburg\, PA\, United States
CATEGORIES:Pending Info Update,State QSO Party
END:VEVENT
BEGIN:VEVENT
DTSTART;TZID=America/New_York:20260418T140000
DTEND;TZID=America/New_York:20260419T135900
DTSTAMP:20260421T210312
CREATED:20200131T193630Z
LAST-MODIFIED:20251003T023210Z
UID:15923-1776520800-1776607140@www.radioclub-carc.com
SUMMARY:Ontario QSO Party
DESCRIPTION:Ontario QSO Party \nThe Calendar View does not represent the two-segment operating period for this contest.\nThe UTC Dates and Times\, shown below\, do capture and show the two operating periods. \nUTC Dates and Times:\nBegin1:  Saturday  April 18\, 2026  1800Z\nEnd1:     Sunday      April 19\, 2026  0459Z \nBegin2:  Sunday     April 19\, 2026  1200Z\nEnd2:     Sunday     April 19\, 2026  1759Z \n  \nThe Third Full Weekend of April \nRules\, Scoring\, Reporting and a lot of Additional Information on their website.\nFor your convenience\, please use our EVENT WEBSITE link. \n 
URL:https://www.radioclub-carc.com/calendar/ontario-qso-party/
LOCATION:On-The-Air\, General Delivery\, Dillsburg\, PA\, United States
CATEGORIES:State QSO Party
END:VEVENT
BEGIN:VEVENT
DTSTART;TZID=America/New_York:20260419T080000
DTEND;TZID=America/New_York:20260419T180000
DTSTAMP:20260421T210312
CREATED:20220103T083353Z
LAST-MODIFIED:20251003T143015Z
UID:21207-1776585600-1776621600@www.radioclub-carc.com
SUMMARY:Quebec QSO Party
DESCRIPTION:Quebec QSO Party \nUTC Dates and Times \nBegin:   Sunday April 19 2025   at 1200Z\nEnd:      Sunday April 19\, 2025   at 2200Z \n  \nList of Administrative Regions of Quebec\nCARC Editor’s Note:  The Administrative Region will be sent by the VE2 station and must be logged by the outside-of-VE2 station.  \n\n\n\n\nAdministrative Region\nContest Exchange Region Codes\n\n\n1- Bas Saint-Laurent\nBSA\n\n\n2- Saguenay-Lac-Saint-Jean\nSLS\n\n\n3- Capitale-Nationale\nQUE\n\n\n4- Mauricie\nMAU\n\n\n5- Estrie\nETE\n\n\n6- Montréal\nMTL\n\n\n7- Outaouais\nOTS\n\n\n8- Abitibi-Témiscamingue\nATE\n\n\n9- Côte-Nord\nCND\n\n\n10- Nord-du-Québec\nNDQ\n\n\n11- Gaspésie-îles-de-la-Madeleine\nGIM\n\n\n12- Chaudière-Appalaches\nCAS\n\n\n13- Laval\nLVL\n\n\n14- Lanaudière\nLDE\n\n\n15- Laurentides\nLNS\n\n\n16- Montérégie\nMEE\n\n\n17- Centre-du-Québec\nCDQ\n\n\n\n\n \nUse the Administrative Region three-letter abbreviation for any Quebec stations (VE2\, VA2) worked in the contest. \nMore information and Contest Rules can be found on their website.\nFor your convenience please use our EVENT WEBSITE link. \n 
URL:https://www.radioclub-carc.com/calendar/quebec-qso-party/
LOCATION:On-The-Air\, General Delivery\, Dillsburg\, PA\, United States
CATEGORIES:State QSO Party
ORGANIZER;CN="Club de Radio Amateur l'Outaouais":MAILTO:ve2cro@RAQI.ca
END:VEVENT
BEGIN:VEVENT
DTSTART;TZID=America/New_York:20260419T140000
DTEND;TZID=America/New_York:20260419T195900
DTSTAMP:20260421T210312
CREATED:20231102T202629Z
LAST-MODIFIED:20251003T142700Z
UID:24490-1776607200-1776628740@www.radioclub-carc.com
SUMMARY:ARRL Rookie Roundup SSB
DESCRIPTION:ARRL Rookie Roundup SSB \nUTC Dates and Times \nBegin:   Sunday  April 19\, 2026  at  1800 Z\nEnd:      Sunday  April 19\, 2026  at  2359 Z \n  \nEvent Website:  http://www.arrl.org/rookie-roundup/
URL:https://www.radioclub-carc.com/calendar/arrl-rookie-roundup-ssb/
LOCATION:On-The-Air\, General Delivery\, Dillsburg\, PA\, United States
CATEGORIES:Contest,On-The-Air,SSB
END:VEVENT
END:VCALENDAR