BEGIN:VCALENDAR
VERSION:2.0
PRODID:-//Cumberland Amateur Radio Club - ECPv6.15.20//NONSGML v1.0//EN
CALSCALE:GREGORIAN
METHOD:PUBLISH
X-WR-CALNAME:Cumberland Amateur Radio Club
X-ORIGINAL-URL:https://www.radioclub-carc.com
X-WR-CALDESC:Events for Cumberland Amateur Radio Club
REFRESH-INTERVAL;VALUE=DURATION:PT1H
X-Robots-Tag:noindex
X-PUBLISHED-TTL:PT1H
BEGIN:VTIMEZONE
TZID:America/New_York
BEGIN:DAYLIGHT
TZOFFSETFROM:-0500
TZOFFSETTO:-0400
TZNAME:EDT
DTSTART:20250309T070000
END:DAYLIGHT
BEGIN:STANDARD
TZOFFSETFROM:-0400
TZOFFSETTO:-0500
TZNAME:EST
DTSTART:20251102T060000
END:STANDARD
BEGIN:DAYLIGHT
TZOFFSETFROM:-0500
TZOFFSETTO:-0400
TZNAME:EDT
DTSTART:20260308T070000
END:DAYLIGHT
BEGIN:STANDARD
TZOFFSETFROM:-0400
TZOFFSETTO:-0500
TZNAME:EST
DTSTART:20261101T060000
END:STANDARD
BEGIN:DAYLIGHT
TZOFFSETFROM:-0500
TZOFFSETTO:-0400
TZNAME:EDT
DTSTART:20270314T070000
END:DAYLIGHT
BEGIN:STANDARD
TZOFFSETFROM:-0400
TZOFFSETTO:-0500
TZNAME:EST
DTSTART:20271107T060000
END:STANDARD
END:VTIMEZONE
BEGIN:VEVENT
DTSTART;TZID=America/New_York:20260425T080000
DTEND;TZID=America/New_York:20260425T130000
DTSTAMP:20260421T194746
CREATED:20181221T211411Z
LAST-MODIFIED:20251003T141853Z
UID:13934-1777104000-1777122000@www.radioclub-carc.com
SUMMARY:York Hamfest
DESCRIPTION:NEW LOCATION BEGAN IN 2025:   See the event flyer nearby.\nPreliminary information for 2026.\nAn update will be provided when the Event Sponsor publishes its update and flyer.\nAny other information on this web page was carried forward from 2025 and may be out of date. \n  \nLicense Testing administered by the Laurel Volunteer Examiner group — No Testing Fee.\nPre-Registration and FCC FRN required prior to the date of the event.\nOn-Site Registration at 10:30 a.m.   Testing Session begins at 11:00 a.m.\nCheck the www.yorkhamfest.org website for up-to-date testing times.\nYou may find additional License Exam information at the Keystone VHF Club website. \nFood Vendor will be available on-site. \nQSL Card Checking for DXCC/WAS/VUCC/WAC. \nDoor Prizes. \nTailgating Setup begins at 6:00 a.m. Saturday Morning.\nGeneral Admission begins at 8:00 a.m. \nChildren under 16 admitted FREE when accompanied by an adult.\nUnlicensed Spouses admitted FREE. \n \n 
URL:https://www.radioclub-carc.com/calendar/york-hamfest/
LOCATION:Glenview Alliance Church\, 10037 Susquehanna Trail S\, Glen Rock\, PA\, 17327\, United States
CATEGORIES:Hamfest,License Exam,Pending Info Update,QSL Card Checking,Tailgating
END:VEVENT
BEGIN:VEVENT
DTSTART;TZID=America/New_York:20260425T090000
DTEND;TZID=America/New_York:20260425T110000
DTSTAMP:20260421T194746
CREATED:20241111T102640Z
LAST-MODIFIED:20251201T140936Z
UID:26704-1777107600-1777114800@www.radioclub-carc.com
SUMMARY:License Exam - Nighthawk VE Team - April
DESCRIPTION:License Exam – Nighthawk VE Team    \nLAUREL VEC means no testing fee. \nThe Federal Communications Commission (FCC) requires a $35 fee payment prior to issuing a license. \nPreregistration is preferred but not required.\nRegistration can be done by going to https://forms.gle/fDKs5U655vE6avZU6 \nWalk-ins are always welcome. \nContact Person Name:           Joshua Burleigh\nContact Person eMail:            kc3olo@arrl.net\nContact Person Telephone:   (570) 220-5443 \nFor License Exam session date and time verification purposes you may wish to visit the Laurel Volunteer Examiner Coordinator web site.\nSearch “Pennsylvania” and look for keyword “Nighthawk”\, or use the link we provide here.\nhttps://larc-vec.org/displayteam.php?team=Nighthawk \nStart Time is 9:00 a.m.\nEnd Time is a guess.  Editor used 11:00 a.m. as a placeholder
URL:https://www.radioclub-carc.com/calendar/license-exam-nighthawk-ve-team-april/
LOCATION:Greenvillage Church of God\, 5164 Philadelphia Ave\, Chambersburg\, PA\, 17202-8944\, United States
CATEGORIES:License Exam
ORGANIZER;CN="Nighthawk VE Team":MAILTO:kc3olo@arrl.net
END:VEVENT
BEGIN:VEVENT
DTSTART;TZID=America/New_York:20260425T120000
DTEND;TZID=America/New_York:20260426T175900
DTSTAMP:20260421T194746
CREATED:20200131T193911Z
LAST-MODIFIED:20251003T015614Z
UID:15926-1777118400-1777226340@www.radioclub-carc.com
SUMMARY:Florida QSO Party
DESCRIPTION:Florida QSO Party (FQP) \nThe Calendar View does not represent the two-segment operating periods for this contest.\nThe UTC Dates and Times\, shown below\, do capture and show the two operating periods \nUTC Dates and Times:\nBegin1:  Saturday  April 25\, 2026  at 1600Z\nEnd1:      Sunday     April 26\, 2026  at 0159Z   Operate for up to 10 hours \nBegin2:  Sunday    April 26\, 2026  at 1200Z\nEnd2:      Sunday    April 26\, 2026  at 2159Z   Operate for up to 10 hours \nTotal Operating Time:  Up to 20 hours. \n  \nRules\, Scoring\, Reporting and a lot of Additional Information on their website.\nFor your convenience\, please use our EVENT WEBSITE link. \n 
URL:https://www.radioclub-carc.com/calendar/florida-qso-party/
LOCATION:On-The-Air\, General Delivery\, Dillsburg\, PA\, United States
CATEGORIES:State QSO Party
END:VEVENT
END:VCALENDAR