BEGIN:VCALENDAR
VERSION:2.0
PRODID:-//Cumberland Amateur Radio Club - ECPv6.15.20//NONSGML v1.0//EN
CALSCALE:GREGORIAN
METHOD:PUBLISH
X-ORIGINAL-URL:https://www.radioclub-carc.com
X-WR-CALDESC:Events for Cumberland Amateur Radio Club
REFRESH-INTERVAL;VALUE=DURATION:PT1H
X-Robots-Tag:noindex
X-PUBLISHED-TTL:PT1H
BEGIN:VTIMEZONE
TZID:America/New_York
BEGIN:DAYLIGHT
TZOFFSETFROM:-0500
TZOFFSETTO:-0400
TZNAME:EDT
DTSTART:20250309T070000
END:DAYLIGHT
BEGIN:STANDARD
TZOFFSETFROM:-0400
TZOFFSETTO:-0500
TZNAME:EST
DTSTART:20251102T060000
END:STANDARD
BEGIN:DAYLIGHT
TZOFFSETFROM:-0500
TZOFFSETTO:-0400
TZNAME:EDT
DTSTART:20260308T070000
END:DAYLIGHT
BEGIN:STANDARD
TZOFFSETFROM:-0400
TZOFFSETTO:-0500
TZNAME:EST
DTSTART:20261101T060000
END:STANDARD
BEGIN:DAYLIGHT
TZOFFSETFROM:-0500
TZOFFSETTO:-0400
TZNAME:EDT
DTSTART:20270314T070000
END:DAYLIGHT
BEGIN:STANDARD
TZOFFSETFROM:-0400
TZOFFSETTO:-0500
TZNAME:EST
DTSTART:20271107T060000
END:STANDARD
END:VTIMEZONE
BEGIN:VEVENT
DTSTART;TZID=America/New_York:20260425T120000
DTEND;TZID=America/New_York:20260426T175900
DTSTAMP:20260421T195037
CREATED:20200131T193911Z
LAST-MODIFIED:20251003T015614Z
UID:15926-1777118400-1777226340@www.radioclub-carc.com
SUMMARY:Florida QSO Party
DESCRIPTION:Florida QSO Party (FQP) \nThe Calendar View does not represent the two-segment operating periods for this contest.\nThe UTC Dates and Times\, shown below\, do capture and show the two operating periods \nUTC Dates and Times:\nBegin1:  Saturday  April 25\, 2026  at 1600Z\nEnd1:      Sunday     April 26\, 2026  at 0159Z   Operate for up to 10 hours \nBegin2:  Sunday    April 26\, 2026  at 1200Z\nEnd2:      Sunday    April 26\, 2026  at 2159Z   Operate for up to 10 hours \nTotal Operating Time:  Up to 20 hours. \n  \nRules\, Scoring\, Reporting and a lot of Additional Information on their website.\nFor your convenience\, please use our EVENT WEBSITE link. \n 
URL:https://www.radioclub-carc.com/calendar/florida-qso-party/
LOCATION:On-The-Air\, General Delivery\, Dillsburg\, PA\, United States
CATEGORIES:State QSO Party
END:VEVENT
BEGIN:VEVENT
DTSTART;TZID=America/New_York:20260426T073000
DTEND;TZID=America/New_York:20260426T120000
DTSTAMP:20260421T195037
CREATED:20220314T120653Z
LAST-MODIFIED:20260201T022454Z
UID:21630-1777188600-1777204800@www.radioclub-carc.com
SUMMARY:Maryland Mobileers Spring Hamfest
DESCRIPTION:Maryland Mobileers Amateur Radio Club Spring Hamfest   —  MMARC \nhttps://sites.google.com/view/marylandmobileers/hamfest?authuser=0 \nPreliminary Information for 2026 – Subject to verification when the Event Flyer is published.\nWhat you see on this web page was carried forward from 2025 and may be out of date.\nTalk-In:   146.805 MHz   -600 KHz   PL Tone 107.2 Hz \nFood and Drink Available For Sale On-Site \n  \n$5.00 Admission\n$10 Outdoor Tailgate Space\n$15 Indoor Vendor Tables \nTable Reservations:\nBruce McPherson AB3AC\neMail:  bmcpherson73@verizon.net \nMail:\nBruce McPherson\n815 Quartz Flake Court\nOdenton\, MD  21113 \nTelephone:\n(410) 456-2500 \n  \nAmateur radio license exams will not be available at the Hamfest. \nExam Test Sessions will be held by the Maryland Mobileers on the 1st Tuesday of each month (except January\, July\, and September) located at: \nThe American Legion Post 175\n832 Manhattan Beach Road\nSeverna Park\, MD  21146 \nPreregistration is requested\, but walk-ins are welcome. \nBefore coming to the exam session\, please read the information in the VE License Exams on the MMARC website.\nThe contact for license exams is Mike ka2jai@arrl.net.
URL:https://www.radioclub-carc.com/calendar/mmarc-spring-hamfest/
LOCATION:Odenton Volunteer Fire Department\, 1425 Annapolis Road (Route 175)\, Odenton\, MD\, 21113\, United States
CATEGORIES:Hamfest,Pending Info Update
END:VEVENT
END:VCALENDAR