BEGIN:VCALENDAR
VERSION:2.0
PRODID:-//Cumberland Amateur Radio Club - ECPv6.15.20//NONSGML v1.0//EN
CALSCALE:GREGORIAN
METHOD:PUBLISH
X-WR-CALNAME:Cumberland Amateur Radio Club
X-ORIGINAL-URL:https://www.radioclub-carc.com
X-WR-CALDESC:Events for Cumberland Amateur Radio Club
REFRESH-INTERVAL;VALUE=DURATION:PT1H
X-Robots-Tag:noindex
X-PUBLISHED-TTL:PT1H
BEGIN:VTIMEZONE
TZID:America/New_York
BEGIN:DAYLIGHT
TZOFFSETFROM:-0500
TZOFFSETTO:-0400
TZNAME:EDT
DTSTART:20250309T070000
END:DAYLIGHT
BEGIN:STANDARD
TZOFFSETFROM:-0400
TZOFFSETTO:-0500
TZNAME:EST
DTSTART:20251102T060000
END:STANDARD
BEGIN:DAYLIGHT
TZOFFSETFROM:-0500
TZOFFSETTO:-0400
TZNAME:EDT
DTSTART:20260308T070000
END:DAYLIGHT
BEGIN:STANDARD
TZOFFSETFROM:-0400
TZOFFSETTO:-0500
TZNAME:EST
DTSTART:20261101T060000
END:STANDARD
BEGIN:DAYLIGHT
TZOFFSETFROM:-0500
TZOFFSETTO:-0400
TZNAME:EDT
DTSTART:20270314T070000
END:DAYLIGHT
BEGIN:STANDARD
TZOFFSETFROM:-0400
TZOFFSETTO:-0500
TZNAME:EST
DTSTART:20271107T060000
END:STANDARD
END:VTIMEZONE
BEGIN:VEVENT
DTSTART;TZID=America/New_York:20260509T080000
DTEND;TZID=America/New_York:20260510T195900
DTSTAMP:20260421T212542
CREATED:20220226T202930Z
LAST-MODIFIED:20251002T023440Z
UID:21476-1778313600-1778443140@www.radioclub-carc.com
SUMMARY:SKCC Weekend Sprintathon (WES) May
DESCRIPTION:SKCC Weekend Sprintathon (WES) \nUTC Dates and Times\nBegin:  Saturday May 09\, 2026   at 1200Z\nEnd:       Sunday   May 10\, 2026  at  2359Z \nThe event follows the same UTC year-round.  The local time will change as Daylight Saving Time takes effect or ends.    \nEastern Standard Local Dates and Times\nBegins:   Saturday    07:00 a.m.\nEnds:       Sunday       06:59 p.m. \nEastern Daylight Saving Local Dates and Times\nBegins:   Saturday    08:00 a.m.\nEnds:       Sunday       07:59 p.m. \n  \nThis event repeats each month beginning on the second Saturday.\nOperate up to 36 hours. \nEvent Website:  https://www.skccgroup.com/operating_activities/weekend_sprintathon/ \n  \nThe SKCC Weekend Sprintathon often features some type of Bonus Points. \nThe May Bonus Points are awarded for making contact with an Operator who became a SKCC member in the FIRST YEAR year of its existence (2006).\nThose operators have an SKCC Number that is less than 2546.  5 Bonus Points are awarded for each such QSO. \n  \nSKCC runs a monthly activity\, which is a great environment for getting comfortable with contest-like CW QSOs. \nThe Weekend Sprintathon (WES) spans a weekend\, each with a fun theme for collecting bonus points.\nThese events provide a great opportunity for those seeking various SKCC recognition levels\, besides contacting friends old and new! \nTypically\, SKCC operators will QRS to the speed of the station calling them. \n 
URL:https://www.radioclub-carc.com/calendar/skcc-weekend-sprintathon-may/
LOCATION:On-The-Air\, General Delivery\, Dillsburg\, PA\, United States
CATEGORIES:Contest,CW,On-The-Air
END:VEVENT
END:VCALENDAR