BEGIN:VCALENDAR
VERSION:2.0
PRODID:-//Cumberland Amateur Radio Club - ECPv6.15.20//NONSGML v1.0//EN
CALSCALE:GREGORIAN
METHOD:PUBLISH
X-WR-CALNAME:Cumberland Amateur Radio Club
X-ORIGINAL-URL:https://www.radioclub-carc.com
X-WR-CALDESC:Events for Cumberland Amateur Radio Club
REFRESH-INTERVAL;VALUE=DURATION:PT1H
X-Robots-Tag:noindex
X-PUBLISHED-TTL:PT1H
BEGIN:VTIMEZONE
TZID:America/New_York
BEGIN:DAYLIGHT
TZOFFSETFROM:-0500
TZOFFSETTO:-0400
TZNAME:EDT
DTSTART:20250309T070000
END:DAYLIGHT
BEGIN:STANDARD
TZOFFSETFROM:-0400
TZOFFSETTO:-0500
TZNAME:EST
DTSTART:20251102T060000
END:STANDARD
BEGIN:DAYLIGHT
TZOFFSETFROM:-0500
TZOFFSETTO:-0400
TZNAME:EDT
DTSTART:20260308T070000
END:DAYLIGHT
BEGIN:STANDARD
TZOFFSETFROM:-0400
TZOFFSETTO:-0500
TZNAME:EST
DTSTART:20261101T060000
END:STANDARD
BEGIN:DAYLIGHT
TZOFFSETFROM:-0500
TZOFFSETTO:-0400
TZNAME:EDT
DTSTART:20270314T070000
END:DAYLIGHT
BEGIN:STANDARD
TZOFFSETFROM:-0400
TZOFFSETTO:-0500
TZNAME:EST
DTSTART:20271107T060000
END:STANDARD
END:VTIMEZONE
BEGIN:VEVENT
DTSTART;TZID=America/New_York:20260529T200000
DTEND;TZID=America/New_York:20260531T195900
DTSTAMP:20260421T212524
CREATED:20210104T184332Z
LAST-MODIFIED:20251001T231352Z
UID:18033-1780084800-1780257540@www.radioclub-carc.com
SUMMARY:CQ WPX Contest CW
DESCRIPTION:CQ WPX Contest CW \nUTC Dates and Times:\nStart:  Saturday   May 30\, 2026   at 0000Z\nEnd:    Sunday      May 31\, 2026   at 2359Z \nAlways the Last Full Weekend of May \nRules\, Scoring\, Reporting and a lot of Additional Information on their website.\nFor your convenience\, please use our EVENT WEBSITE link. \nEvent Website:   https://wwrof.org \nContest Sponsor:  World Wide Radio Operators Foundation \n  \n 
URL:https://www.radioclub-carc.com/calendar/cq-wpx-contest-cw/
LOCATION:On-The-Air\, General Delivery\, Dillsburg\, PA\, United States
CATEGORIES:Contest,CW,On-The-Air
END:VEVENT
END:VCALENDAR