BEGIN:VCALENDAR
VERSION:2.0
PRODID:-//Cumberland Amateur Radio Club - ECPv6.15.20//NONSGML v1.0//EN
CALSCALE:GREGORIAN
METHOD:PUBLISH
X-ORIGINAL-URL:https://www.radioclub-carc.com
X-WR-CALDESC:Events for Cumberland Amateur Radio Club
REFRESH-INTERVAL;VALUE=DURATION:PT1H
X-Robots-Tag:noindex
X-PUBLISHED-TTL:PT1H
BEGIN:VTIMEZONE
TZID:America/New_York
BEGIN:DAYLIGHT
TZOFFSETFROM:-0500
TZOFFSETTO:-0400
TZNAME:EDT
DTSTART:20250309T070000
END:DAYLIGHT
BEGIN:STANDARD
TZOFFSETFROM:-0400
TZOFFSETTO:-0500
TZNAME:EST
DTSTART:20251102T060000
END:STANDARD
BEGIN:DAYLIGHT
TZOFFSETFROM:-0500
TZOFFSETTO:-0400
TZNAME:EDT
DTSTART:20260308T070000
END:DAYLIGHT
BEGIN:STANDARD
TZOFFSETFROM:-0400
TZOFFSETTO:-0500
TZNAME:EST
DTSTART:20261101T060000
END:STANDARD
BEGIN:DAYLIGHT
TZOFFSETFROM:-0500
TZOFFSETTO:-0400
TZNAME:EDT
DTSTART:20270314T070000
END:DAYLIGHT
BEGIN:STANDARD
TZOFFSETFROM:-0400
TZOFFSETTO:-0500
TZNAME:EST
DTSTART:20271107T060000
END:STANDARD
END:VTIMEZONE
BEGIN:VEVENT
DTSTART;TZID=America/New_York:20260725T110000
DTEND;TZID=America/New_York:20260725T225900
DTSTAMP:20260423T115354
CREATED:20210107T184702Z
LAST-MODIFIED:20260203T033503Z
UID:18124-1784977200-1785020340@www.radioclub-carc.com
SUMMARY:Alabama QSO Party
DESCRIPTION:Alabama QSO Party  — AQP \nUTC Dates and Times\nBegin:  Saturday    July 25\, 2026   at 1500Z\nEnd:     Sunday       July 26\, 2026   at 0259Z \nOperate up to 12 hours. \n  \nEvent Website:\nhttps://alabamacontestgroup.org/aqp/ \nRules\, Scoring\, Reporting and a lot of Additional Information on their website.\nFor your convenience\, please use our EVENT WEBSITE link. \n  \n 
URL:https://www.radioclub-carc.com/calendar/alabama-qso-party/
LOCATION:On-The-Air\, General Delivery\, Dillsburg\, PA\, United States
CATEGORIES:State QSO Party
END:VEVENT
END:VCALENDAR