BEGIN:VCALENDAR
VERSION:2.0
PRODID:-//Cumberland Amateur Radio Club - ECPv6.15.20//NONSGML v1.0//EN
CALSCALE:GREGORIAN
METHOD:PUBLISH
X-WR-CALNAME:Cumberland Amateur Radio Club
X-ORIGINAL-URL:https://www.radioclub-carc.com
X-WR-CALDESC:Events for Cumberland Amateur Radio Club
REFRESH-INTERVAL;VALUE=DURATION:PT1H
X-Robots-Tag:noindex
X-PUBLISHED-TTL:PT1H
BEGIN:VTIMEZONE
TZID:America/New_York
BEGIN:DAYLIGHT
TZOFFSETFROM:-0500
TZOFFSETTO:-0400
TZNAME:EDT
DTSTART:20250309T070000
END:DAYLIGHT
BEGIN:STANDARD
TZOFFSETFROM:-0400
TZOFFSETTO:-0500
TZNAME:EST
DTSTART:20251102T060000
END:STANDARD
BEGIN:DAYLIGHT
TZOFFSETFROM:-0500
TZOFFSETTO:-0400
TZNAME:EDT
DTSTART:20260308T070000
END:DAYLIGHT
BEGIN:STANDARD
TZOFFSETFROM:-0400
TZOFFSETTO:-0500
TZNAME:EST
DTSTART:20261101T060000
END:STANDARD
BEGIN:DAYLIGHT
TZOFFSETFROM:-0500
TZOFFSETTO:-0400
TZNAME:EDT
DTSTART:20270314T070000
END:DAYLIGHT
BEGIN:STANDARD
TZOFFSETFROM:-0400
TZOFFSETTO:-0500
TZNAME:EST
DTSTART:20271107T060000
END:STANDARD
END:VTIMEZONE
BEGIN:VEVENT
DTSTART;TZID=America/New_York:20260808T080000
DTEND;TZID=America/New_York:20260809T195900
DTSTAMP:20260423T132357
CREATED:20220226T203913Z
LAST-MODIFIED:20251002T023723Z
UID:21483-1786176000-1786305540@www.radioclub-carc.com
SUMMARY:SKCC Weekend Sprintathon (WES) August
DESCRIPTION:SKCC Weekend Sprintathon (WES) \nUTC Dates and Times\nBegin:  Saturday August 08\, 2026   at 1200Z\nEnd:      Sunday   August 09\, 2026   at  2359Z \nThe event follows the same UTC year-round.  The local time will change as Daylight Saving Time takes effect or ends.    \nEastern Standard Local Dates and Times\nBegins:   Saturday    07:00 a.m.\nEnds:       Sunday       06:59 p.m. \nEastern Daylight Saving Local Dates and Times\nBegins:   Saturday    08:00 a.m.\nEnds:       Sunday       07:59 p.m. \n  \nThis event repeats each month beginning on the second Saturday. \nOperate up to 36 hours. \nEvent Website:  https://www.skccgroup.com/operating_activities/weekend_sprintathon/ \n  \nThe SKCC Weekend Sprintathon often features some type of Bonus Points.\nAugust Theme — Home Brew Key\nIf you have ever made your own key\, use it in this months Sprintathon. \nYou will earn 5 Bonus Points for each QSO made using your Home Brew Key on the sending side of the QSO.\n(These Bonus Points are not applicable to the receiving side of the QSO.)\nEarn an Additional 100 Bonus Points for submitting your Comments and a Photo of your Home Brew Key when submitting your contest results. \n  \nSKCC runs a monthly activity\, which is a great environment for getting comfortable with contest-like CW QSOs. \nThe Weekend Sprintathon (WES) spans a weekend\, each with a fun theme for collecting bonus points.\nThese events provide a great opportunity for those seeking various SKCC recognition levels\, besides contacting friends old and new! \nTypically\, SKCC operators will QRS to the speed of the station calling them. \n 
URL:https://www.radioclub-carc.com/calendar/skcc-weekend-sprintathon-aug/
LOCATION:On-The-Air\, General Delivery\, Dillsburg\, PA\, United States
CATEGORIES:Contest,CW,On-The-Air
END:VEVENT
BEGIN:VEVENT
DTSTART;TZID=America/New_York:20260808T100000
DTEND;TZID=America/New_York:20260808T235900
DTSTAMP:20260423T132357
CREATED:20200202T142251Z
LAST-MODIFIED:20260204T160253Z
UID:15972-1786183200-1786233540@www.radioclub-carc.com
SUMMARY:Maryland DC QSO Party
DESCRIPTION:Maryland DC QSO Party \nUTC Dates and Times:\nBegin:  August 08\, 2026  1400Z\nEnd:     August 09\, 2026   0359Z \nEvent Website:  https://w3vpr.org/maryland-dc_qso_party \nRules\, Scoring\, Reporting and a lot of Additional Information at their website.\nFor your convenience\, please use our EVENT WEBSITE link. \n 
URL:https://www.radioclub-carc.com/calendar/maryland-dc-qso-party/
LOCATION:On-The-Air\, General Delivery\, Dillsburg\, PA\, United States
CATEGORIES:State QSO Party
END:VEVENT
END:VCALENDAR