BEGIN:VCALENDAR
VERSION:2.0
PRODID:-//Cumberland Amateur Radio Club - ECPv6.15.20//NONSGML v1.0//EN
CALSCALE:GREGORIAN
METHOD:PUBLISH
X-WR-CALNAME:Cumberland Amateur Radio Club
X-ORIGINAL-URL:https://www.radioclub-carc.com
X-WR-CALDESC:Events for Cumberland Amateur Radio Club
REFRESH-INTERVAL;VALUE=DURATION:PT1H
X-Robots-Tag:noindex
X-PUBLISHED-TTL:PT1H
BEGIN:VTIMEZONE
TZID:America/New_York
BEGIN:DAYLIGHT
TZOFFSETFROM:-0500
TZOFFSETTO:-0400
TZNAME:EDT
DTSTART:20250309T070000
END:DAYLIGHT
BEGIN:STANDARD
TZOFFSETFROM:-0400
TZOFFSETTO:-0500
TZNAME:EST
DTSTART:20251102T060000
END:STANDARD
BEGIN:DAYLIGHT
TZOFFSETFROM:-0500
TZOFFSETTO:-0400
TZNAME:EDT
DTSTART:20260308T070000
END:DAYLIGHT
BEGIN:STANDARD
TZOFFSETFROM:-0400
TZOFFSETTO:-0500
TZNAME:EST
DTSTART:20261101T060000
END:STANDARD
BEGIN:DAYLIGHT
TZOFFSETFROM:-0500
TZOFFSETTO:-0400
TZNAME:EDT
DTSTART:20270314T070000
END:DAYLIGHT
BEGIN:STANDARD
TZOFFSETFROM:-0400
TZOFFSETTO:-0500
TZNAME:EST
DTSTART:20271107T060000
END:STANDARD
END:VTIMEZONE
BEGIN:VEVENT
DTSTART;TZID=America/New_York:20260813T200000
DTEND;TZID=America/New_York:20260816T130000
DTSTAMP:20260423T132536
CREATED:20220303T204002Z
LAST-MODIFIED:20260204T162822Z
UID:21527-1786651200-1786885200@www.radioclub-carc.com
SUMMARY:Northeast HamXposition
DESCRIPTION:Northeast HamXposition \nARRL New England Division Convention \nThursday August 13\, 2026 through Sunday August 16\, 2026 \nThe 2026 dates are good.  Everything else shown on this page needs to be updated when the Event Sponsor posts their event flyer \nHighlights \nForums\nFlea Market\nDXCC / Contest Dinner\nGrand Banquet\nKeynote Address\nSpecial Event Station\nAmateur Radio Exposition\nNEQRP Symposium\nLicense Exams\nOpen Mic Story Hour\nDoor Prizes \n  \nThursday — Comedy Show at 8 p.m. \nFriday — See the program for details.\nSaturday — See the program for details.\nSunday — See the program for details. \nTickets are on-sale NOW. \nEvent Website:  https://hamxposition.org \n  \n 
URL:https://www.radioclub-carc.com/calendar/northeast-hamxposition/
LOCATION:Best Western Royal Plaza Hotel & Trade Center\, 181 Boston Post Road West\, Marlborough\, MA\, 01752\, United States
CATEGORIES:Convention,Hamfest,License Exam,Preliminary Info
END:VEVENT
END:VCALENDAR