BEGIN:VCALENDAR
VERSION:2.0
PRODID:-//Cumberland Amateur Radio Club - ECPv6.15.20//NONSGML v1.0//EN
CALSCALE:GREGORIAN
METHOD:PUBLISH
X-WR-CALNAME:Cumberland Amateur Radio Club
X-ORIGINAL-URL:https://www.radioclub-carc.com
X-WR-CALDESC:Events for Cumberland Amateur Radio Club
REFRESH-INTERVAL;VALUE=DURATION:PT1H
X-Robots-Tag:noindex
X-PUBLISHED-TTL:PT1H
BEGIN:VTIMEZONE
TZID:America/New_York
BEGIN:DAYLIGHT
TZOFFSETFROM:-0500
TZOFFSETTO:-0400
TZNAME:EDT
DTSTART:20250309T070000
END:DAYLIGHT
BEGIN:STANDARD
TZOFFSETFROM:-0400
TZOFFSETTO:-0500
TZNAME:EST
DTSTART:20251102T060000
END:STANDARD
BEGIN:DAYLIGHT
TZOFFSETFROM:-0500
TZOFFSETTO:-0400
TZNAME:EDT
DTSTART:20260308T070000
END:DAYLIGHT
BEGIN:STANDARD
TZOFFSETFROM:-0400
TZOFFSETTO:-0500
TZNAME:EST
DTSTART:20261101T060000
END:STANDARD
BEGIN:DAYLIGHT
TZOFFSETFROM:-0500
TZOFFSETTO:-0400
TZNAME:EDT
DTSTART:20270314T070000
END:DAYLIGHT
BEGIN:STANDARD
TZOFFSETFROM:-0400
TZOFFSETTO:-0500
TZNAME:EST
DTSTART:20271107T060000
END:STANDARD
END:VTIMEZONE
BEGIN:VEVENT
DTSTART;TZID=America/New_York:20260829T100000
DTEND;TZID=America/New_York:20260830T160000
DTSTAMP:20260423T132358
CREATED:20200829T202405Z
LAST-MODIFIED:20260204T162255Z
UID:16897-1787997600-1788105600@www.radioclub-carc.com
SUMMARY:Kansas QSO Party
DESCRIPTION:Kansas QSO Party — KQP \nOur Calendar View does not represent the two-segments of this contest and the overnight gap.\nThe UTC Dates and Times\, shown below\, do represent the two separate operating periods. \nUTC Dates and Times \nBegin1:  Saturday  August 20\, 2026  at 1400Z\nEnd1:     Sunday     August 30\, 2026  at 0159Z \n\n(overnight gap) \nBegin2:  Sunday    August 30\, 2026  at 1400Z\nEnd2:     Sunday    August 30\, 2026  at 1959Z. \nThe last full weekend in August.  (Note: 2026 has five full weekends\, which makes the calendar date later than usual.) \nLots of detail and additional information at their website.\nFor your convenience\, please use our EVENT WEBSITE link. \nEvent Website Link:  https://www.ksqsoparty.org/
URL:https://www.radioclub-carc.com/calendar/kansas-qso-party/
LOCATION:On-The-Air\, General Delivery\, Dillsburg\, PA\, United States
CATEGORIES:State QSO Party
END:VEVENT
END:VCALENDAR