BEGIN:VCALENDAR
VERSION:2.0
PRODID:-//Cumberland Amateur Radio Club - ECPv6.15.20//NONSGML v1.0//EN
CALSCALE:GREGORIAN
METHOD:PUBLISH
X-WR-CALNAME:Cumberland Amateur Radio Club
X-ORIGINAL-URL:https://www.radioclub-carc.com
X-WR-CALDESC:Events for Cumberland Amateur Radio Club
REFRESH-INTERVAL;VALUE=DURATION:PT1H
X-Robots-Tag:noindex
X-PUBLISHED-TTL:PT1H
BEGIN:VTIMEZONE
TZID:America/New_York
BEGIN:DAYLIGHT
TZOFFSETFROM:-0500
TZOFFSETTO:-0400
TZNAME:EDT
DTSTART:20250309T070000
END:DAYLIGHT
BEGIN:STANDARD
TZOFFSETFROM:-0400
TZOFFSETTO:-0500
TZNAME:EST
DTSTART:20251102T060000
END:STANDARD
BEGIN:DAYLIGHT
TZOFFSETFROM:-0500
TZOFFSETTO:-0400
TZNAME:EDT
DTSTART:20260308T070000
END:DAYLIGHT
BEGIN:STANDARD
TZOFFSETFROM:-0400
TZOFFSETTO:-0500
TZNAME:EST
DTSTART:20261101T060000
END:STANDARD
BEGIN:DAYLIGHT
TZOFFSETFROM:-0500
TZOFFSETTO:-0400
TZNAME:EDT
DTSTART:20270314T070000
END:DAYLIGHT
BEGIN:STANDARD
TZOFFSETFROM:-0400
TZOFFSETTO:-0500
TZNAME:EST
DTSTART:20271107T060000
END:STANDARD
END:VTIMEZONE
BEGIN:VEVENT
DTSTART;TZID=America/New_York:20260912T080000
DTEND;TZID=America/New_York:20260913T195900
DTSTAMP:20260423T150850
CREATED:20220226T204136Z
LAST-MODIFIED:20251002T023812Z
UID:21485-1789200000-1789329540@www.radioclub-carc.com
SUMMARY:SKCC Weekend Sprintathon (WES) September
DESCRIPTION:SKCC Weekend Sprintathon (WES) \nUTC Dates and Times\nBegin:  Saturday September 12\, 2026   at 1200Z\nEnd:     Sunday    September 13\, 2026   at  2359Z \nThe event follows the same UTC year-round.  The local time will change as Daylight Saving Time takes effect or ends.    \nEastern Standard Local Dates and Times\nBegins:   Saturday    07:00 a.m.\nEnds:       Sunday       06:59 p.m. \nEastern Daylight Saving Local Dates and Times\nBegins:   Saturday    08:00 a.m.\nEnds:       Sunday       07:59 p.m. \n  \nThis event repeats each month beginning on the second Saturday. \nOperate up to 36 hours. \nEvent Website:  https://www.skccgroup.com/operating_activities/weekend_sprintathon/ \n  \nThe SKCC Weekend Sprintathon often features some type of Bonus Points.\nThe September Bonus Point theme is CLUB STATIONS.\nIn their exchange\, Club Stations that have an SKCC Member Number will send the Operator Name followed by /ARC or /CLUB.\nEach such QSO earns 5 Bonus Points. \n  \nSKCC runs a monthly activity\, which is a great environment for getting comfortable with contest-like CW QSOs. \nThe Weekend Sprintathon (WES) spans a weekend\, each with a fun theme for collecting bonus points.\nThese events provide a great opportunity for those seeking various SKCC recognition levels\, besides contacting friends old and new! \nTypically\, SKCC operators will QRS to the speed of the station calling them. \n 
URL:https://www.radioclub-carc.com/calendar/skcc-weekend-sprintathon-sep/
LOCATION:On-The-Air\, General Delivery\, Dillsburg\, PA\, United States
CATEGORIES:Contest,CW,On-The-Air
END:VEVENT
BEGIN:VEVENT
DTSTART;TZID=America/New_York:20260912T140000
DTEND;TZID=America/New_York:20260913T225900
DTSTAMP:20260423T150850
CREATED:20220106T190517Z
LAST-MODIFIED:20251001T221425Z
UID:21232-1789221600-1789340340@www.radioclub-carc.com
SUMMARY:ARRL VHF Contest September
DESCRIPTION:ARRL VHF Contest September \nUTC Date and Time:\nBegin:   Saturday September 12\, 2026 at  1800Z\nEnd:      Monday   September 14\, 2026 at  0259Z \nAlways the second full weekend of September. \nEvent Website:  https://www.arrl.org/september-vhf/ \nSee the ARRL website for complete contest rules.\nFor your convenience\, you may wish to use our Event Website link. \n#####
URL:https://www.radioclub-carc.com/calendar/arrl-vhf-contest-september/
LOCATION:On-The-Air\, General Delivery\, Dillsburg\, PA\, United States
CATEGORIES:Contest,On-The-Air,UHF,VHF
END:VEVENT
END:VCALENDAR