BEGIN:VCALENDAR
VERSION:2.0
PRODID:-//Cumberland Amateur Radio Club - ECPv6.15.20//NONSGML v1.0//EN
CALSCALE:GREGORIAN
METHOD:PUBLISH
X-ORIGINAL-URL:https://www.radioclub-carc.com
X-WR-CALDESC:Events for Cumberland Amateur Radio Club
REFRESH-INTERVAL;VALUE=DURATION:PT1H
X-Robots-Tag:noindex
X-PUBLISHED-TTL:PT1H
BEGIN:VTIMEZONE
TZID:America/New_York
BEGIN:DAYLIGHT
TZOFFSETFROM:-0500
TZOFFSETTO:-0400
TZNAME:EDT
DTSTART:20250309T070000
END:DAYLIGHT
BEGIN:STANDARD
TZOFFSETFROM:-0400
TZOFFSETTO:-0500
TZNAME:EST
DTSTART:20251102T060000
END:STANDARD
BEGIN:DAYLIGHT
TZOFFSETFROM:-0500
TZOFFSETTO:-0400
TZNAME:EDT
DTSTART:20260308T070000
END:DAYLIGHT
BEGIN:STANDARD
TZOFFSETFROM:-0400
TZOFFSETTO:-0500
TZNAME:EST
DTSTART:20261101T060000
END:STANDARD
BEGIN:DAYLIGHT
TZOFFSETFROM:-0500
TZOFFSETTO:-0400
TZNAME:EDT
DTSTART:20270314T070000
END:DAYLIGHT
BEGIN:STANDARD
TZOFFSETFROM:-0400
TZOFFSETTO:-0500
TZNAME:EST
DTSTART:20271107T060000
END:STANDARD
END:VTIMEZONE
BEGIN:VEVENT
DTSTART;TZID=America/New_York:20261119T120000
DTEND;TZID=America/New_York:20261119T133000
DTSTAMP:20260423T183654
CREATED:20221025T140205Z
LAST-MODIFIED:20251229T030148Z
UID:22583-1795089600-1795095000@www.radioclub-carc.com
SUMMARY:Ham Radio Lunch November
DESCRIPTION:Ham Radio Lunch \nEditor’s Note:  Mind the November event for potential conflict with the USA Thanksgiving Holiday which occurs on the fourth Thursday of the month. \nThe November 2026 meeting very likely will take place on the THIRD THURSDAY — November 19\, 2026 \n  \nThe LAST THURSDAY of the month\, except major holidays.   Noon +/- to “whenever”.\n(Editor’s guess-timate of 1:30 p.m. was used in the calendar entry._ \nLocation:\nHibachi Grill and Buffet\n5080 Jonestown Road\nHarrisburg\, PA  17112 \nThis is the same shopping center as the Hobby Lobby store and Dick’s Sporting Goods.  Just one or two doors away from the Hobby Lobby.  Across the street from Home Depot. \nNo reservations…  No sponsor…  No club affiliation required.  Just show up.\nThe group will be in the back room to the far left as you come in.  The Hostess knows where to direct you. \nNon-Alcoholic Beverages are FREE.\nThere is always a large table available for HAMFEST ITEMS.  Bring your stuff. \n 
URL:https://www.radioclub-carc.com/calendar/ham-radio-lunch-november/
LOCATION:Hibachi Grill and Buffet\, 5080 Jonestown Road -- Route 22\, Harrisburg\, PA\, 17112\, United States
CATEGORIES:Lunch,Schedule Exception,Social Activity
END:VEVENT
END:VCALENDAR