BEGIN:VCALENDAR
VERSION:2.0
PRODID:-//Cumberland Amateur Radio Club - ECPv6.15.20//NONSGML v1.0//EN
CALSCALE:GREGORIAN
METHOD:PUBLISH
X-ORIGINAL-URL:https://www.radioclub-carc.com
X-WR-CALDESC:Events for Cumberland Amateur Radio Club
REFRESH-INTERVAL;VALUE=DURATION:PT1H
X-Robots-Tag:noindex
X-PUBLISHED-TTL:PT1H
BEGIN:VTIMEZONE
TZID:UTC
BEGIN:STANDARD
TZOFFSETFROM:+0000
TZOFFSETTO:+0000
TZNAME:UTC
DTSTART:20250101T000000
END:STANDARD
END:VTIMEZONE
BEGIN:VEVENT
DTSTART;TZID=UTC:20261122T140000
DTEND;TZID=UTC:20261122T160000
DTSTAMP:20260423T183654
CREATED:20251201T144552Z
LAST-MODIFIED:20251201T144552Z
UID:28495-1795356000-1795363200@www.radioclub-carc.com
SUMMARY:Perry County ARC License Exam — November
DESCRIPTION:License Exam – Perry County Amateur Radio Club    \nLAUREL VEC means no testing fee. \nThe Federal Communications Commission (FCC) requires a $35 fee payment prior to issuing a license. \nPreregistration is preferred but not required.\nRegistration can be done by calling (717) 275-0237  \nWalk-ins are allowed. \nLocation: \nDuncannon EMS Building\n16 Shermanta Drive\nDuncannon\, PA  17020 \nContact Person Name:           Matthew Morrison\, KB3PSN\nContact Person eMail:            \nContact Person Telephone:    \nFor License Exam session date and time verification purposes you may wish to visit the Laurel Volunteer Examiner Coordinator web site.\nSearch “Pennsylvania” and look for keywords “Perry County Amateur Radio Club”.  Or\, “PCARC”.\nhttps://larc-vec.org/displayteam.php?team=PCARC \nStart Time is 2:00 p.m.\nEnd Time is a guess.  Editor used 4:00 p.m. as a placeholder
URL:https://www.radioclub-carc.com/calendar/perry-county-arc-license-exam-november/
LOCATION:Duncannon EMS Building\, 16 Shermanta Drive\, Duncannon\, PA\, 17020\, United States
CATEGORIES:License Exam
END:VEVENT
END:VCALENDAR