BEGIN:VCALENDAR
VERSION:2.0
PRODID:-//Cumberland Amateur Radio Club - ECPv6.15.20//NONSGML v1.0//EN
CALSCALE:GREGORIAN
METHOD:PUBLISH
X-WR-CALNAME:Cumberland Amateur Radio Club
X-ORIGINAL-URL:https://www.radioclub-carc.com
X-WR-CALDESC:Events for Cumberland Amateur Radio Club
REFRESH-INTERVAL;VALUE=DURATION:PT1H
X-Robots-Tag:noindex
X-PUBLISHED-TTL:PT1H
BEGIN:VTIMEZONE
TZID:America/New_York
BEGIN:DAYLIGHT
TZOFFSETFROM:-0500
TZOFFSETTO:-0400
TZNAME:EDT
DTSTART:20240310T070000
END:DAYLIGHT
BEGIN:STANDARD
TZOFFSETFROM:-0400
TZOFFSETTO:-0500
TZNAME:EST
DTSTART:20241103T060000
END:STANDARD
BEGIN:DAYLIGHT
TZOFFSETFROM:-0500
TZOFFSETTO:-0400
TZNAME:EDT
DTSTART:20250309T070000
END:DAYLIGHT
BEGIN:STANDARD
TZOFFSETFROM:-0400
TZOFFSETTO:-0500
TZNAME:EST
DTSTART:20251102T060000
END:STANDARD
BEGIN:DAYLIGHT
TZOFFSETFROM:-0500
TZOFFSETTO:-0400
TZNAME:EDT
DTSTART:20260308T070000
END:DAYLIGHT
BEGIN:STANDARD
TZOFFSETFROM:-0400
TZOFFSETTO:-0500
TZNAME:EST
DTSTART:20261101T060000
END:STANDARD
END:VTIMEZONE
BEGIN:VEVENT
DTSTART;TZID=America/New_York:20250802T080000
DTEND;TZID=America/New_York:20250802T120000
DTSTAMP:20260422T220555
CREATED:20230731T215103Z
LAST-MODIFIED:20250504T170234Z
UID:23939-1754121600-1754136000@www.radioclub-carc.com
SUMMARY:Reading Radio Club Hamfest
DESCRIPTION:Reading Radio Club Hamfest — Canceled for 2025.  See you in 2026. \nDue to a fire at Heritage Park\, the Reading Radio Club Ham Fest for 2025 has been cancelled.  \nWe are planning on having a 2026 Hamfest. \nEverything shown below is a leftover remnant from the 2024 Hamfest.  Saved as a starting point for editing the 2026 event \n\nSaturday\, August 2\, 2025\n\n======================================\n\n\n\nReading Radio Club Hamfest. Location is Heritage Park\, Sinking Spring\, PA. \nOff Route 422 and close to Route 724 – look for signs. \nSINKING SPRING\, PA (Reading area) – \n\n\nFrom east\, travel west on Rt. 422 and go past MacDonald’s at the Rt. 724 intersection\, after one mile\, left on Park Ave. (just past the Sunoco station on the right); stay on Park Ave. 0.3 miles to dead end\, go left onto Clematis St. 0.2 miles to the entrance to Heritage \nPark. \n\n\nFrom the west\, watch for the Sheetz station on the left and Ace Hardware on the right. Slow down and turn right onto Park. See above.  \n GPS: N 40 deg 19.320 min W 076 deg 01.950 min.  \n Closest home to Heritage Park entrance: 992 Clematis Street\, Sinking Spring\, PA 19608. \n  \n\n\n\n\nType: ARRL Sponsored Hamfest  \nTalk-In: 146.91/.31– tone 131.8 Hz \nOpens: 8 a.m.\, Vendors 7 a.m. (Ticket prizes awarded at intervals). Closes at noon.  \nCOST: $5 entrance fee or $8 tailgate fee for sellers (per space). No chairs or tables available-bring your own.  \nNO ENTRANCE FEE for: those taking license exams\, Amateurs under 18 years of age\, unlicensed spouses\, and children under 18 years old. \nBreakfast\, lunch and snacks available inside Freight Station. Door prizes announced during the morning.  \nTest Bench with limited AC and DC power and HF antenna provided in Freight Station.  \nARRL VE License Testing at 8:30 am (inside Freight Station). \nTests cost $15 for adults\, $5.00 for Youth under 18 \n\n(We prefer a check written to ARRL/VEC). Exact cash payment is also acceptable. \nPlease bring one form of ID\, or a copy of your license or CSCE. \nYou must provide an e-mail address and FRN number. \n\nPublic Contact: Harry Hoffman\, W3VBY\n\n\n\n\n\n\n\n— Repeater —     146.910 MHz     – 600 kHz      PL Tone 131.8 Hz. \n— Weekly MOTA —   (Meeting On The Air) \nEvery Friday that we do not have an in-person meeting.\nNet starts at 8:00 pm on the RRC Repeater.\nYou do not need to be a member to join us!
URL:https://www.radioclub-carc.com/calendar/reading-radio-club-hamfest/
LOCATION:Heritage Park\, 992 Clematis Street\, Sinking Spring\, PA\, United States
CATEGORIES:Breakfast,License Exam,Lunch,Snacks,Tailgating
ORGANIZER;CN="Reading Radio Club":MAILTO:w3bn.rrc@gmail.com
END:VEVENT
BEGIN:VEVENT
DTSTART;TZID=America/New_York:20250727T130000
DTEND;TZID=America/New_York:20250727T170000
DTSTAMP:20260422T220555
CREATED:20250607T084429Z
LAST-MODIFIED:20250608T183850Z
UID:27493-1753621200-1753635600@www.radioclub-carc.com
SUMMARY:Flight of the Bumblebees
DESCRIPTION:Flight of the Bumblebees  — FOBB \nUTC Date and Times \nBegin:   Sunday     July 27\, 2025   at 1700Z\nEnd:      Sunday     July 27\, 2025   at 2100Z \n\n\n\n\n\n\n\n\n    Always the last Sunday in July\n\nQRP (5 watts or less) CW\n\nBumblebees operate portable.    Send [Your Call Sign]/BB     Obtain your Bumblebee number before the contest.   The website is open now to assign BB numbers.\nBumblebees work everyone.  CQ BB\nBB Exchange Sent:   RST\, State/Province/Country\, BB Number\n\n\n\nHome Stations are expected to operate QRP\nHome Stations work everyone. \nHome Station Exchange Sent:   RST\, State/Province/Country\, Transmitter Power (should be 5W or less as QRP)\n\n\n\n       Suggested QRP CW Frequencies:    3560\, 7030\, 7040\, 7122\, 14060\, 21060\, 28060 mHz\n       \n       Event Sponsor:   The Adventure Radio Society   (ARS)\n\n       Event Website Link:   https://www.ars-qrp.com \n\n       For scoring calculations\, there is an incentive to work Bumblebees.  The total number of Bumblebees worked is a multiplier.\n       Submit scores via  3830scores.com    Contest Name:   ARS FOBB
URL:https://www.radioclub-carc.com/calendar/flight-of-the-bumblebees/
LOCATION:On-The-Air\, General Delivery\, Dillsburg\, PA\, United States
CATEGORIES:Contest,CW,On-The-Air,QRP
END:VEVENT
BEGIN:VEVENT
DTSTART;TZID=America/New_York:20250706T080000
DTEND;TZID=America/New_York:20250706T120000
DTSTAMP:20260422T220555
CREATED:20190615T205200Z
LAST-MODIFIED:20260204T164445Z
UID:14807-1751788800-1751803200@www.radioclub-carc.com
SUMMARY:Murgas ARC Hamfest
DESCRIPTION:  \nMurgas Amateur Radio Club Hamfest \nLocated in Plains\, PA which is near Wilkes-Barre\, PA \nSunday July 06\, 2025 — The FIRST SUNDAY IN JULY \n  \nMurgas Amateur Radio Club\,  K3YTL\nTalk-In 146.610 MHz  -offset  Tone:  82.5 Hz \nEvent Website:  http://www.murgasarc.org/hamfest.htm \nLots of Information\, Directions\, and Maps on their website:  \nOr\, for your convenience\, please use our EVENT WEBSITE link. \n  \nVE Testing – ARRL VEC.  No Pre-Registration required.  Testing begins at 10 a.m. \n  \nAdmission $9.00.    XYL and Children under age 16 are FREE.\nIncludes one FREE tailgate space per vehicle.  Additional tailgate spaces for $5.00 each.\nTailgate Setup begins at 6:00 a.m.\nGates Open at 8:00 a.m. \n  \nContact:\nHerb K2LNS   (570) 829-2695\neMail:   murgasarc@gmail.com \nMurgas ARC\nPO Box 1094\nWilkes-Barre\, PA  18702 \n 
URL:https://www.radioclub-carc.com/calendar/murgas-arc-hamfest/
LOCATION:Polish American Veterans Club\, 2 South Oak Street\, Plains\, PA\, United States
CATEGORIES:Hamfest
ORGANIZER;CN="Murgas Amateur Radio Club":MAILTO:murgasarc@gmail.com
END:VEVENT
BEGIN:VEVENT
DTSTART;TZID=America/New_York:20250509T100000
DTEND;TZID=America/New_York:20250510T150000
DTSTAMP:20260422T220555
CREATED:20230216T214854Z
LAST-MODIFIED:20250303T155842Z
UID:23332-1746784800-1746889200@www.radioclub-carc.com
SUMMARY:Kutztown Antique Radio Meet May
DESCRIPTION:The Kutztown Antique Radio Meet is held twice a year in May and September.\nIt has grown to one of the largest radio shows in the country\, attracting collectors and dealers from all over the US.\nThe Show is held at Renninger’s Antiques and Farmer’s Market. \n  \nFriday May 09 and Saturday May 10\, 2025\nCheck website for hours of operation.\nEvent Website:  https://renningers.net/events/kutztown-antiques-radio-vintage-electronics-meet/ \nFriday September 19 and Saturday September 20\, 2025\nCheck website for hours of operation.\nEvent Website:  https://renningers.net/events/kutztown-antiques-radio-vintage-electronics-meet-2/ \n  \n  \n\n\n 
URL:https://www.radioclub-carc.com/calendar/kutztown-antique-radio-meet-may/
LOCATION:Renninger’s Antiques and Farmer’s Market\, 740 Nobel St\, Kutztown\, PA\, United States
CATEGORIES:Hamfest
END:VEVENT
END:VCALENDAR