BEGIN:VCALENDAR
VERSION:2.0
PRODID:-//Cumberland Amateur Radio Club - ECPv6.15.20//NONSGML v1.0//EN
CALSCALE:GREGORIAN
METHOD:PUBLISH
X-WR-CALNAME:Cumberland Amateur Radio Club
X-ORIGINAL-URL:https://www.radioclub-carc.com
X-WR-CALDESC:Events for Cumberland Amateur Radio Club
REFRESH-INTERVAL;VALUE=DURATION:PT1H
X-Robots-Tag:noindex
X-PUBLISHED-TTL:PT1H
BEGIN:VTIMEZONE
TZID:America/New_York
BEGIN:DAYLIGHT
TZOFFSETFROM:-0500
TZOFFSETTO:-0400
TZNAME:EDT
DTSTART:20250309T070000
END:DAYLIGHT
BEGIN:STANDARD
TZOFFSETFROM:-0400
TZOFFSETTO:-0500
TZNAME:EST
DTSTART:20251102T060000
END:STANDARD
BEGIN:DAYLIGHT
TZOFFSETFROM:-0500
TZOFFSETTO:-0400
TZNAME:EDT
DTSTART:20260308T070000
END:DAYLIGHT
BEGIN:STANDARD
TZOFFSETFROM:-0400
TZOFFSETTO:-0500
TZNAME:EST
DTSTART:20261101T060000
END:STANDARD
BEGIN:DAYLIGHT
TZOFFSETFROM:-0500
TZOFFSETTO:-0400
TZNAME:EDT
DTSTART:20270314T070000
END:DAYLIGHT
BEGIN:STANDARD
TZOFFSETFROM:-0400
TZOFFSETTO:-0500
TZNAME:EST
DTSTART:20271107T060000
END:STANDARD
BEGIN:DAYLIGHT
TZOFFSETFROM:-0500
TZOFFSETTO:-0400
TZNAME:EDT
DTSTART:20280312T070000
END:DAYLIGHT
BEGIN:STANDARD
TZOFFSETFROM:-0400
TZOFFSETTO:-0500
TZNAME:EST
DTSTART:20281105T060000
END:STANDARD
END:VTIMEZONE
BEGIN:VTIMEZONE
TZID:UTC
BEGIN:STANDARD
TZOFFSETFROM:+0000
TZOFFSETTO:+0000
TZNAME:UTC
DTSTART:20250101T000000
END:STANDARD
END:VTIMEZONE
BEGIN:VEVENT
DTSTART;TZID=America/New_York:20261219T090000
DTEND;TZID=America/New_York:20261219T120000
DTSTAMP:20260422T223446
CREATED:20181223T212641Z
LAST-MODIFIED:20260131T155930Z
UID:20849-1797670800-1797681600@www.radioclub-carc.com
SUMMARY:License Exam - HRAC - December
DESCRIPTION:Harrisburg Radio Amateur Club — HRAC \nLicense Exam Schedule:   The third Saturday of EVEN numbered months.  Testing starts at 9 a.m. \nHRAC is part of the Laurel Volunteer Examiner group and administers Amateur Radio License Tests without a testing fee.\nNote:  The Federal Communications Commission (FCC) has a $35 fee which must be paid before the license is issued. \nVisit the HRAC website http://www.w3uu.org/license-exams to confirm the dates\, times and locations as well as the possibility of additional License Exam dates. \nPre-Registration including FCC FRN Required.  Visit their website http://www.w3uu.org/license-exams for complete information. \n  \nIf you have questions or need assistance with license exam registration please see the form in the bottom left corner of the web page http://www.w3uu.org/license-exams\nAnswer the questions and press SUBMIT. \n  \n 
URL:https://www.radioclub-carc.com/calendar/license-exam-hrac-december/
LOCATION:Vietnam Veterans of America\, 8000 Derry St\, Harrisburg\, PA\, 17111\, United States
CATEGORIES:License Exam
END:VEVENT
BEGIN:VEVENT
DTSTART;TZID=America/New_York:20261220T130000
DTEND;TZID=America/New_York:20261220T185900
DTSTAMP:20260422T223446
CREATED:20231102T200708Z
LAST-MODIFIED:20260131T160634Z
UID:24483-1797771600-1797793140@www.radioclub-carc.com
SUMMARY:ARRL Rookie Roundup CW
DESCRIPTION:UTC Dates and Times \nBegin:  Sunday    December 20\, 2026    at  1800 Z\nEnd:     Sunday     December 20\, 2026   at  2359 Z \n  \nEvent Website:  http://www.arrl.org/rookie-roundup/
URL:https://www.radioclub-carc.com/calendar/arrl-rookie-roundup-cw/
LOCATION:On-The-Air\, General Delivery\, Dillsburg\, PA\, United States
CATEGORIES:Contest,CW,On-The-Air
END:VEVENT
BEGIN:VEVENT
DTSTART;TZID=UTC:20261222T190000
DTEND;TZID=UTC:20261223T210000
DTSTAMP:20260422T223446
CREATED:20250926T125202Z
LAST-MODIFIED:20260131T155101Z
UID:28137-1797966000-1798059600@www.radioclub-carc.com
SUMMARY:SKCC Straight Key Sprint (SKS) December
DESCRIPTION:SKCC Straight Key Sprint (SKS) \nUTC Date and Time:\nBegin:   Wednesday   December 23\, 2026   0000 Z\nEnd:      Wednesday   December 23\, 2026   0200 Z \nAlways the 4th Wednesday UTC at 0000Z for two hours. \nThe event follows the same UTC year-round.  The local time will change as Daylight Saving Time takes effect or ends.    \nEastern Standard — Local Dates and Times\nBegins:   Tuesday      07:00 p.m.\nEnds:       Tuesday      08:59 p.m. \nEastern Daylight Saving — Local Dates and Times\nBegins:   Tuesday      08:00 p.m.\nEnds:       Tuesday      09:59 p.m. \n  \nExchange:   RST\, QTH (State)\, Name\, SKCC Number \nEvent Web Site Link:  https://www.skccgroup.com/operating_activities/weekday_sprint/
URL:https://www.radioclub-carc.com/calendar/skcc-straight-key-sprint-sks-december/
LOCATION:On-The-Air\, General Delivery\, Dillsburg\, PA\, United States
CATEGORIES:Contest,CW,On-The-Air
END:VEVENT
BEGIN:VEVENT
DTSTART;TZID=America/New_York:20261223T153000
DTEND;TZID=America/New_York:20261223T173000
DTSTAMP:20260422T223446
CREATED:20230118T201323Z
LAST-MODIFIED:20260131T154851Z
UID:22932-1798039800-1798047000@www.radioclub-carc.com
SUMMARY:Luminary Lighting
DESCRIPTION:Members of the Cumberland Amateur Radio Club have volunteered to light the luminaries surrounding Children’s Lake in Boiling Springs. \nOur service to the community takes place Wednesday afternoon\, December 23\, 2026. \nIn prior years we gathered at the lake about 3:30 p.m. and completed our work about the time of sunset.  For this calendar entry your Editor listed a ending time of 5:30 p.m. which allows a margin for debriefing after the labor-of-love has been completed. \n#####
URL:https://www.radioclub-carc.com/calendar/luminary-lighting/
LOCATION:Children’s Lake\, Boiling Springs\, PA
CATEGORIES:Community,Outdoor Event
END:VEVENT
BEGIN:VEVENT
DTSTART;TZID=America/New_York:20261231T190000
DTEND;TZID=America/New_York:20270101T185900
DTSTAMP:20260422T223446
CREATED:20231102T121833Z
LAST-MODIFIED:20260131T155340Z
UID:24466-1798743600-1798829940@www.radioclub-carc.com
SUMMARY:ARRL Straight Key Night
DESCRIPTION:UTC Dates and Times \nBegin:   Friday  January 01\, 2027   at  0000 Z\nEnd:      Friday  January 01\, 2027   at  2359 Z \nEvent Website:  http://www.arrl.org/straight-key-night/ \nSubmit your list of stations worked as well as SKN stories and photos\, along with your votes for BEST FIST and MOST INTERESTING QSO\, via eMail to:\nstraightkey@arrl.org before January 31\, 2027 \n 
URL:https://www.radioclub-carc.com/calendar/arrl-straight-key-night/
LOCATION:On-The-Air\, General Delivery\, Dillsburg\, PA\, United States
CATEGORIES:CW,On-The-Air
END:VEVENT
END:VCALENDAR