BEGIN:VCALENDAR
VERSION:2.0
PRODID:-//Cumberland Amateur Radio Club - ECPv6.15.20//NONSGML v1.0//EN
CALSCALE:GREGORIAN
METHOD:PUBLISH
X-WR-CALNAME:Cumberland Amateur Radio Club
X-ORIGINAL-URL:https://www.radioclub-carc.com
X-WR-CALDESC:Events for Cumberland Amateur Radio Club
REFRESH-INTERVAL;VALUE=DURATION:PT1H
X-Robots-Tag:noindex
X-PUBLISHED-TTL:PT1H
BEGIN:VTIMEZONE
TZID:America/New_York
BEGIN:DAYLIGHT
TZOFFSETFROM:-0500
TZOFFSETTO:-0400
TZNAME:EDT
DTSTART:20240310T070000
END:DAYLIGHT
BEGIN:STANDARD
TZOFFSETFROM:-0400
TZOFFSETTO:-0500
TZNAME:EST
DTSTART:20241103T060000
END:STANDARD
BEGIN:DAYLIGHT
TZOFFSETFROM:-0500
TZOFFSETTO:-0400
TZNAME:EDT
DTSTART:20250309T070000
END:DAYLIGHT
BEGIN:STANDARD
TZOFFSETFROM:-0400
TZOFFSETTO:-0500
TZNAME:EST
DTSTART:20251102T060000
END:STANDARD
BEGIN:DAYLIGHT
TZOFFSETFROM:-0500
TZOFFSETTO:-0400
TZNAME:EDT
DTSTART:20260308T070000
END:DAYLIGHT
BEGIN:STANDARD
TZOFFSETFROM:-0400
TZOFFSETTO:-0500
TZNAME:EST
DTSTART:20261101T060000
END:STANDARD
END:VTIMEZONE
BEGIN:VEVENT
DTSTART;TZID=America/New_York:20251202T180000
DTEND;TZID=America/New_York:20251202T200000
DTSTAMP:20260422T002254
CREATED:20240716T141128Z
LAST-MODIFIED:20250509T160502Z
UID:25869-1764698400-1764705600@www.radioclub-carc.com
SUMMARY:License Exam - CATG - December
DESCRIPTION:Amateur Radio License Exam\nCapital Area Testing Group \nFirst Tuesday of the Month\nBegins at 6 p.m.   End Time 8 p.m. \nManada Hill Diner\n257 North Hershey Road\nWest Hanover Township\, Pennsylvania \nUpon entering the diner look for the long table\, in the back under the TV screen. \nWalk-ins Allowed\nFCC Registration must be completed beforehand.\nRegistration Number (FRN ) must be presented at time of testing.\nVolunteer Exam Form 605 must be completed in advance.  Forms can be found at:   https://capitalareatestinggroup.wordpress.com/forms/ \nVolunteer Exam Coordination by ARRL VEC.\nTesting is subject to their Exam Fee\, currently $15.00 \nFCC requires payment of their $35 fee prior to issuing a license. \nContact eMail:  CapitalATG@yahoo.com \nContact eMail:   Richard   KB3YRC@comcast.net\nContact eMail:   Paul         WB2VLM@arrl.net\nContact Person:  Paul E. Rokoff   717 657-7652
URL:https://www.radioclub-carc.com/calendar/license-exam-catg-december/
LOCATION:Manada Hill Diner\, 257 N. Hershey Rd\, West Hanover Twp\, PA\, 17112-9752\, United States
CATEGORIES:License Exam
ORGANIZER;CN="Capital Area Testing Group":MAILTO:CapitalATG@yahoo.com
END:VEVENT
BEGIN:VEVENT
DTSTART;TZID=America/New_York:20251205T170000
DTEND;TZID=America/New_York:20251207T110000
DTSTAMP:20260422T002254
CREATED:20231102T120955Z
LAST-MODIFIED:20250509T162244Z
UID:24459-1764954000-1765105200@www.radioclub-carc.com
SUMMARY:ARRL 160 Meter Contest
DESCRIPTION:ARRL 160 Meter Contest \nUTC Dates and Times:\nBegin:   Friday    December 5\, 2025   at  2200 Z\nEnd:      Sunday  December 7\, 2025   at  1559 Z \nRules\, Scoring\, Reporting and a lot of Additional Information on their website.\nFor your convenience\, please use our EVENT WEBSITE link. \nEvent Website Link:  http://www.arrl.org/160-meter \n 
URL:https://www.radioclub-carc.com/calendar/arrl-160-meter-contest/
LOCATION:On-The-Air\, General Delivery\, Dillsburg\, PA\, United States
CATEGORIES:Contest,On-The-Air
END:VEVENT
BEGIN:VEVENT
DTSTART;TZID=America/New_York:20251207T110000
DTEND;TZID=America/New_York:20251207T130000
DTSTAMP:20260422T002254
CREATED:20231225T184028Z
LAST-MODIFIED:20250303T111008Z
UID:24902-1765105200-1765112400@www.radioclub-carc.com
SUMMARY:CARC Holiday Gathering 2025
DESCRIPTION:I received a brief announcement telling that the 2025 Holiday Gathering (aka Brunch) will take place on a date and time to-be-determined.  \nAs a placeholder\, I posted this event into the first Sunday in December 25. \nThe event location is t-be-determined.  TJ Rockwell’s located at 896 W. Grantham Road\, Mechanicsburg\, PA.   \nDriving directions:   W. Grantham Road runs mostly East-West between Williams Grove Road on the west end and Gettysburg Pike on the east end. \nLandmarks in the area include the Williams Grove Speedway –and–  Ashcombe’s Farm and Greenhouses. \nThose interested in attending are asked to eMail Club President Frank Mellott at president@RadioClub-CARC.com with their attendance intent and head count and the names of those attending.  Names are used in the preparation of the table cards that  have been a traditional feature of the CARC Holiday event. \n 
URL:https://www.radioclub-carc.com/calendar/carc-holiday-gathering-2025/
LOCATION:T J Rockwell’s\, 896 Grantham Road\, Mechanicsburg\, PA\, 17055\, United States
CATEGORIES:Lunch,Placeholder,Social Activity
END:VEVENT
BEGIN:VEVENT
DTSTART;TZID=America/New_York:20251212T190000
DTEND;TZID=America/New_York:20251214T185900
DTSTAMP:20260422T002254
CREATED:20231102T122429Z
LAST-MODIFIED:20250509T162443Z
UID:24471-1765566000-1765738740@www.radioclub-carc.com
SUMMARY:ARRL 10 Meter Contest
DESCRIPTION:ARRL 10 Meter Contest \nUTC Dates and Times:\nBegin:   Saturday December 13\, 2025  at  0000 Z\nEnd:       Sunday   December 14\, 2025  at  2359 Z \nAlways the second full weekend in December \nRules\, Scoring\, Reporting and a lot of Additional Information on their website.\nFor your convenience\, please use our EVENT WEBSITE link. \nEvent Website Link:  http://www.arrl.org/10-meter \n 
URL:https://www.radioclub-carc.com/calendar/arrl-10-meter-contest/
LOCATION:On-The-Air\, General Delivery\, Dillsburg\, PA\, United States
CATEGORIES:Contest,On-The-Air
END:VEVENT
END:VCALENDAR