BEGIN:VCALENDAR
VERSION:2.0
PRODID:-//Cumberland Amateur Radio Club - ECPv6.15.20//NONSGML v1.0//EN
CALSCALE:GREGORIAN
METHOD:PUBLISH
X-ORIGINAL-URL:https://www.radioclub-carc.com
X-WR-CALDESC:Events for Cumberland Amateur Radio Club
REFRESH-INTERVAL;VALUE=DURATION:PT1H
X-Robots-Tag:noindex
X-PUBLISHED-TTL:PT1H
BEGIN:VTIMEZONE
TZID:America/New_York
BEGIN:DAYLIGHT
TZOFFSETFROM:-0500
TZOFFSETTO:-0400
TZNAME:EDT
DTSTART:20250309T070000
END:DAYLIGHT
BEGIN:STANDARD
TZOFFSETFROM:-0400
TZOFFSETTO:-0500
TZNAME:EST
DTSTART:20251102T060000
END:STANDARD
BEGIN:DAYLIGHT
TZOFFSETFROM:-0500
TZOFFSETTO:-0400
TZNAME:EDT
DTSTART:20260308T070000
END:DAYLIGHT
BEGIN:STANDARD
TZOFFSETFROM:-0400
TZOFFSETTO:-0500
TZNAME:EST
DTSTART:20261101T060000
END:STANDARD
BEGIN:DAYLIGHT
TZOFFSETFROM:-0500
TZOFFSETTO:-0400
TZNAME:EDT
DTSTART:20270314T070000
END:DAYLIGHT
BEGIN:STANDARD
TZOFFSETFROM:-0400
TZOFFSETTO:-0500
TZNAME:EST
DTSTART:20271107T060000
END:STANDARD
END:VTIMEZONE
BEGIN:VTIMEZONE
TZID:UTC
BEGIN:STANDARD
TZOFFSETFROM:+0000
TZOFFSETTO:+0000
TZNAME:UTC
DTSTART:20250101T000000
END:STANDARD
END:VTIMEZONE
BEGIN:VEVENT
DTSTART;VALUE=DATE:20260101
DTEND;VALUE=DATE:20260201
DTSTAMP:20260421T230207
CREATED:20250713T080842Z
LAST-MODIFIED:20250930T141450Z
UID:27757-1767225600-1769903999@www.radioclub-carc.com
SUMMARY:World Wide Award WWA January
DESCRIPTION:World Wide Award – WWA \nTwo Events: \nJanuary 2026 — The entire month\nJanuary 1 through January 31\, 2026 \nJune/July 2026 — One week\nJune 29 through July 5\, 2026 \n  \nEvent Website Link:  https://hamaward.cloud/wwa \nListen for station call sign suffix WWA  or stations calling CQ WWA \nEarn points.  Achieve 100 points and earn a certificate\nCW QSOs worth 10 points\nSSB QSOs worth 5 points\nDigital QSOs worth 2 points \n 
URL:https://www.radioclub-carc.com/calendar/world-wide-award-wwa-january/
LOCATION:On-The-Air\, General Delivery\, Dillsburg\, PA\, United States
CATEGORIES:On-The-Air,Operating Event
END:VEVENT
BEGIN:VEVENT
DTSTART;TZID=America/New_York:20260103T130000
DTEND;TZID=America/New_York:20260103T185900
DTSTAMP:20260421T230207
CREATED:20201111T125241Z
LAST-MODIFIED:20251001T215734Z
UID:17709-1767445200-1767466740@www.radioclub-carc.com
SUMMARY:ARRL Kids Day January
DESCRIPTION:UTC Dates and Times\nBegin:   Saturday  January 03\, 2026    at 1800Z\nEnd:      Saturday  January 03\, 2026    at 2359Z \nEVENT WEBSITE:  https://www.arrl.org/Kids-Day/ \nThe first Saturday in January is Kids Day — the time to get youngsters on the air to share in the joy and fun that Amateur Radio can provide.  [Editor’s Note:  There is a second Kids Day each year in June\, usually on the third Saturday of the month.] \nSponsored by the Boring (Oregon) Amateur Radio Club\, this event has a simple exchange\, suitable for younger operators: \nFirst Name\,\nAge\,\nLocation\, and\nFavorite Color. \nAfter that\, the contact can be as long or as short as each participant prefers. \nKids Day is the perfect opportunity to open your shack door and invite kids over to see what Amateur Radio has to offer.
URL:https://www.radioclub-carc.com/calendar/arrl-kids-day-january/
LOCATION:On-The-Air\, General Delivery\, Dillsburg\, PA\, United States
CATEGORIES:Contest,On-The-Air
END:VEVENT
BEGIN:VEVENT
DTSTART;TZID=America/New_York:20260103T130000
DTEND;TZID=America/New_York:20260104T185900
DTSTAMP:20260421T230207
CREATED:20211022T204129Z
LAST-MODIFIED:20251001T220050Z
UID:20259-1767445200-1767553140@www.radioclub-carc.com
SUMMARY:ARRL RTTY Roundup
DESCRIPTION:ARRL RTTY Roundup \nUTC Dates and Times\nBegin:   Saturday January 3\, 2026  1800Z\nEnd:       Sunday   January 4\, 2026  2359Z \nEVENT WEBSITE link:  https://www.arrl.org/rtty-roundup/ \n 
URL:https://www.radioclub-carc.com/calendar/arrl-rtty-roundup/
LOCATION:On-The-Air\, General Delivery\, Dillsburg\, PA\, United States
CATEGORIES:Contest,On-The-Air,RTTY
END:VEVENT
BEGIN:VEVENT
DTSTART;TZID=America/New_York:20260106T180000
DTEND;TZID=America/New_York:20260106T200000
DTSTAMP:20260421T230207
CREATED:20241110T222121Z
LAST-MODIFIED:20250930T003202Z
UID:26685-1767722400-1767729600@www.radioclub-carc.com
SUMMARY:License Exam - CATG - January
DESCRIPTION:Amateur Radio License Exam\nCapital Area Testing Group \nFirst Tuesday of the Month\nBegins at 6 p.m.   End Time 8 p.m. \nManada Hill Diner\n257 North Hershey Road\nWest Hanover Township\, Pennsylvania \nUpon entering the diner look for the long table\, in the back under the TV screen. \nWalk-ins Allowed\nFCC Registration must be completed beforehand.\nRegistration Number (FRN ) must be presented at time of testing.\nVolunteer Exam Form 605 must be completed in advance.  Forms can be found at:   https://capitalareatestinggroup.wordpress.com/forms/ \nVolunteer Exam Coordination by ARRL VEC.\nTesting is subject to their Exam Fee\, currently $15.00 \nFCC requires payment of their $35 fee prior to issuing a license. \nContact eMail:  CapitalATG@yahoo.com \nContact eMail:   Richard   KB3YRC@comcast.net\nContact eMail:   Paul         WB2VLM@arrl.net\nContact Person:  Paul E. Rokoff   717 657-7652
URL:https://www.radioclub-carc.com/calendar/license-exam-catg-january/
LOCATION:Manada Hill Diner\, 257 N. Hershey Rd\, West Hanover Twp\, PA\, 17112-9752\, United States
CATEGORIES:License Exam
ORGANIZER;CN="Capital Area Testing Group":MAILTO:CapitalATG@yahoo.com
END:VEVENT
BEGIN:VEVENT
DTSTART;TZID=America/New_York:20260110T070000
DTEND;TZID=America/New_York:20260110T110000
DTSTAMP:20260421T230207
CREATED:20201107T200422Z
LAST-MODIFIED:20251218T024245Z
UID:17676-1768028400-1768042800@www.radioclub-carc.com
SUMMARY:HRAC Winterfest
DESCRIPTION:SAVE THE DATE * * * WINTERFEST 2026 will be Saturday January 10\, 2026.\n \n 
URL:https://www.radioclub-carc.com/calendar/hrac-winterfest-2025/
LOCATION:Vietnam Veterans of America\, 8000 Derry St\, Harrisburg\, PA\, 17111\, United States
CATEGORIES:Coffee,Hamfest,Indoor Tables,QSL Card Checking,Snacks
END:VEVENT
BEGIN:VEVENT
DTSTART;TZID=America/New_York:20260110T070000
DTEND;TZID=America/New_York:20260111T185900
DTSTAMP:20260421T230207
CREATED:20221229T211124Z
LAST-MODIFIED:20251002T023244Z
UID:22775-1768028400-1768157940@www.radioclub-carc.com
SUMMARY:SKCC Weekend Sprintathon (WES) January
DESCRIPTION:SKCC Weekend Sprintathon (WES) January \nUTC Dates and Times\nBegin:  Saturday January 10\, 2026   at 1200Z\nEnd:     Sunday    January 11\, 2026   at 2359Z \nThe event follows the same UTC year-round.  The local time will change as Daylight Saving Time takes effect or ends.    \nEastern Standard Local Dates and Times\nBegins:   Saturday    07:00 a.m.\nEnds:       Sunday       06:59 p.m. \nEastern Daylight Saving Local Dates and Times\nBegins:   Saturday    08:00 a.m.\nEnds:       Sunday       07:59 p.m. \nThis event repeats each month beginning on the second Saturday.\nOperate up to 36 hours. \nEvent Website:  https://www.skccgroup.com/operating_activities/weekend_sprintathon/ \n  \nThe SKCC Weekend Sprintathon often features some type of Bonus Points.\nJanuary Theme — Winter Bands.\nThis month the bonus involves contacts made on the WINTER BANDS — 160 Meters and 80 Meters.\nSKCC QSOs made in the 160 meter and 80 meter bands earn 5 bonus points. \n  \nSKCC runs a monthly activity\, which is a great environment for getting comfortable with contest-like CW QSOs. \nThe Weekend Sprintathon (WES) spans a weekend\, each with a fun theme for collecting bonus points.\nThese events provide a great opportunity for those seeking various SKCC recognition levels\, besides contacting friends old and new! \nTypically\, SKCC operators will QRS to the speed of the station calling them \n  \n 
URL:https://www.radioclub-carc.com/calendar/skcc-weekend-sprintathon-jan/
LOCATION:On-The-Air\, General Delivery\, Dillsburg\, PA\, United States
CATEGORIES:Contest,CW,On-The-Air
END:VEVENT
BEGIN:VEVENT
DTSTART;TZID=America/New_York:20260110T100000
DTEND;TZID=America/New_York:20260110T120000
DTSTAMP:20260421T230207
CREATED:20191205T154929Z
LAST-MODIFIED:20250930T012647Z
UID:15549-1768039200-1768046400@www.radioclub-carc.com
SUMMARY:License Exam - Keystone VHF Club - January
DESCRIPTION:License Exams are offered on the Second Saturday of ODD Numbered months at 10:00 a.m. \nLicense Exam conducted by the Keystone VHF Club — W3HZU\nAdministration by Laurel Volunteer Examiner Coordinator — No Testing Fee.\nThe FCC does require a $35 fee for issuing a license after you have passed the license exam. \n  \nFCC FRN (registration number) is required for testing.  Obtain your FRN prior to the date of the event. \nPre-Registration Preferred\nNote:  If no pre-registrations have been made by Thursday morning prior to the exam date the Exam Session will be cancelled without notice. \nSee Keystone VHF Club website for additional information and details of the Pre-Registration procedures.\nhttps://www.w3hzu.com/laurelVEC.php \n  \nKeystone VHF Club Contact Person:   Ralph Brandt\, K3HQI    eMail:  K3HQI@arrl.net    717.885.3063 \nExam Registration site:   https://www.yorktownshiprec.com\nEditor’s Note:  It is not clear to me how you register at this website.  You may need to contact  Mr. Brandt for guidance.  (see above) \n 
URL:https://www.radioclub-carc.com/calendar/license-exam-keystone-vhf-club-january/
LOCATION:York County Dept of Emergency Services\, 120 Davies Drive\, York\, PA\, 17402\, United States
CATEGORIES:License Exam
END:VEVENT
BEGIN:VEVENT
DTSTART;TZID=America/New_York:20260110T130000
DTEND;TZID=America/New_York:20260111T010000
DTSTAMP:20260421T230207
CREATED:20200818T185554Z
LAST-MODIFIED:20251001T221734Z
UID:16812-1768050000-1768093200@www.radioclub-carc.com
SUMMARY:North American QSO Party CW January
DESCRIPTION:UTC Dates and Times: \nJanuary Event NAQP CW \nStart:  Saturday  January 10\, 2026 at 1800Z\nEnd:    Sunday     January 11\, 2026 at 0600Z \nNote:  NAQP CW January Event usually takes place the second full weekend of January. \n  \nAugust Event NAQP CW \nStart:   Saturday  August 01\, 2026 at 1800Z\nEnd:     Sunday     August 02\, 2026 at 0600Z \nNote:  NAQP CW August Event usually takes place the first full weekend of August. \n 
URL:https://www.radioclub-carc.com/calendar/north-american-qso-party-cw-january/
LOCATION:On-The-Air\, General Delivery\, Dillsburg\, PA\, United States
CATEGORIES:Contest,CW,On-The-Air
END:VEVENT
BEGIN:VEVENT
DTSTART;TZID=America/New_York:20260117T093000
DTEND;TZID=America/New_York:20260117T113000
DTSTAMP:20260421T230207
CREATED:20191205T151408Z
LAST-MODIFIED:20250930T025338Z
UID:15528-1768642200-1768649400@www.radioclub-carc.com
SUMMARY:License Exam - Cross Keys Village - January
DESCRIPTION:Cross Keys Village Amateur Radio Club — W3CKV\nIn conjunction with\nAdams County Amateur Radio Society — W3KGN \nLicense Exams are offered on the Third Saturday of ODD Numbered months at 9:30 a.m. \nLicense Exams are conducted in the Harmony Ridge Community Center\, Encore Room\n2990 Carlisle Pike\, New Oxford\, PA  17350 \nPre-Registration and an FCC FRN are required prior to the day of the event.\nPre-Registration Online Form can be found at:   https://www.w3kgn.org    Look for “VE Examinations” in the left-side menu bar. \nContact Person:  Perry Wood    eMail:  ckvarc.ve.testing@gmail.com \nThis exam will be conducted under the authority of the Laurel Volunteer Exam Coordinator. \nLaurel VEC does not charge a testing fee for administering license exams.\nNote:  The Federal Communications Commission (FCC) has a $35 fee which must be paid before a new license or renewal is issued. \n  \n  \n  \n  \n 
URL:https://www.radioclub-carc.com/calendar/license-exam-cross-keys-village-january/
LOCATION:Harmony Ridge Community Center\, 620 Harmony Drive\, New Oxford\, PA\, United States
CATEGORIES:License Exam
END:VEVENT
BEGIN:VEVENT
DTSTART;TZID=America/New_York:20260117T130000
DTEND;TZID=America/New_York:20260118T010000
DTSTAMP:20260421T230207
CREATED:20200818T185509Z
LAST-MODIFIED:20251001T222015Z
UID:16809-1768654800-1768698000@www.radioclub-carc.com
SUMMARY:North American QSO Party SSB January
DESCRIPTION:UTC Dates and Times: \nJanuary Event NAQP SSB \nStart:  Saturday  January 17\, 2026 at 1800Z\nEnd:    Sunday     January 18\, 2026 at 0600Z \nNote:  The NAQP SSB January Event usually takes place the third full weekend of January. \n  \nAugust Event NAQP SSB \nStart:   Saturday  August 15\, 2026 at 1800Z\nEnd:     Sunday     August 16\, 2026 at 0600Z \nNote:  The NAQP SSB August Event usually takes place the third full weekend of August. \n  \n 
URL:https://www.radioclub-carc.com/calendar/north-american-qso-party-ssb-january/
LOCATION:On-The-Air\, General Delivery\, Dillsburg\, PA\, United States
CATEGORIES:Contest,On-The-Air,SSB
END:VEVENT
BEGIN:VEVENT
DTSTART;TZID=America/New_York:20260117T140000
DTEND;TZID=America/New_York:20260118T225900
DTSTAMP:20260421T230207
CREATED:20220106T185642Z
LAST-MODIFIED:20251001T221311Z
UID:21230-1768658400-1768777140@www.radioclub-carc.com
SUMMARY:ARRL VHF Contest January
DESCRIPTION:ARRL VHF Contest January \nUTC Dates and Times: \nBegin:   Saturday January 17\, 2026 at  1900Z\nEnd:      Monday   January 19\, 2026 at  0359Z   \n  \nSee the ARRL website for complete contest rules.\nFor your convenience\, you may wish to use our Event Website link. \n#####
URL:https://www.radioclub-carc.com/calendar/arrl-vhf-contest-january/
LOCATION:On-The-Air\, General Delivery\, Dillsburg\, PA\, United States
CATEGORIES:Contest,On-The-Air,UHF,VHF
END:VEVENT
BEGIN:VEVENT
DTSTART;TZID=America/New_York:20260120T180000
DTEND;TZID=America/New_York:20260120T190000
DTSTAMP:20260421T230207
CREATED:20200911T181519Z
LAST-MODIFIED:20250930T013630Z
UID:16945-1768932000-1768935600@www.radioclub-carc.com
SUMMARY:License Exam - SMRA - January
DESCRIPTION:The South Mountain Radio Amateurs will conduct a License Exam session on the following dates: \nThe third Tuesday of each month. \nThis exam will be conducted under the authority of W5YI Volunteer Exam Coordinator \n  \nThe testing session is scheduled to begin at 6:00 p.m. \nPre-Registration is required. \nVisit https://www.N3TWT.org to familiarize yourself with their testing policies.\nFrom the menu bar\, click WHAT IS SMRA\, then click SMRA TESTING POLICIES. \nNCVEC Form 605 Required\nTesting Candidates must obtain an FCC FRN Number prior to the day of testing. \n  \nContact:    smraham@gmail.com    717.347.4261 \n  \nTesting Location:\nCumberland County Public Safety Center\n1 Public Service Drive\nCarlisle\, PA  17013 \nThe testing location address shown above may not be known to some GPS devices.\nThe testing location is across the street from the Cumberland County Prison which is located at 1101 Claremont Road\, Carlisle\, PA. \n  \n 
URL:https://www.radioclub-carc.com/calendar/license-exam-smra-january/
LOCATION:Cumberland County Public Safety Center\, 1 Public Safety Dr\, Carlisle\, PA\, 17013\, United States
CATEGORIES:License Exam
END:VEVENT
BEGIN:VEVENT
DTSTART;TZID=America/New_York:20260121T171500
DTEND;TZID=America/New_York:20260121T195500
DTSTAMP:20260421T230207
CREATED:20211029T120702Z
LAST-MODIFIED:20250927T001127Z
UID:20379-1769015700-1769025300@www.radioclub-carc.com
SUMMARY:CARC Monthly Meeting - January
DESCRIPTION:CARC Members\, Visitors and our Guests get together for a face-to-face meeting on the third Wednesday of each month (January through November). \nMeetings almost always are held at the Hoss’s Steak House located at 61 Gettysburg Pike\, Mechanicsburg (Upper Allen Township). \nArrive by 5:15 p.m. (or earlier) if you wish to enjoy dinner before the meeting (Dutch Treat).   This is your opportunity to reward Hoss’s for providing the meeting room for our use FREE OF CHARGE. \nThe Club Meeting begins at 6:40 p.m.  We strive to finish our work and end the meeting by 7:55 p.m. \nThere usually will be a Zoom Web Meeting option for those who are unable to attend the meeting in-person.  The Zoom Meeting Room opens about 6:30 p.m. \nAdditional meeting information\, including planned topics and confirmation of the meeting location\, appears in the Things-To-Do / CARC Events page. \n  \n#####
URL:https://www.radioclub-carc.com/calendar/carc-monthly-meeting-january/
LOCATION:Hoss’s Steak House\, 61 Gettysburg Pike\, Mechanicsburg\, PA\, 17055\, United States
CATEGORIES:Club Meeting
END:VEVENT
BEGIN:VEVENT
DTSTART;TZID=America/New_York:20260123T170000
DTEND;TZID=America/New_York:20260125T165900
DTSTAMP:20260421T230207
CREATED:20210104T182316Z
LAST-MODIFIED:20251001T221111Z
UID:18027-1769187600-1769360340@www.radioclub-carc.com
SUMMARY:CQ WW 160 Meter Contest CW
DESCRIPTION:CQ  World Wide 160 Meter Contest CW \nUTC Dates and Times:\nBegin:  January 23\, 2026   at 2200Z\nEnd:     January 25\, 2026   at 2159Z \nRules\, Scoring\, Reporting and a lot of Additional Information on their website.\nFor your convenience\, please use our EVENT WEBSITE link. \n  \nContest Sponsor:  World Wide Radio Operators Foundation\nWebsite URL:  https://wwrof.org \n  \n 
URL:https://www.radioclub-carc.com/calendar/cq-160-meter-contest-cw/
LOCATION:On-The-Air\, General Delivery\, Dillsburg\, PA\, United States
CATEGORIES:Contest,CW,On-The-Air
END:VEVENT
BEGIN:VEVENT
DTSTART;TZID=America/New_York:20260124T110000
DTEND;TZID=America/New_York:20260125T165900
DTSTAMP:20260421T230207
CREATED:20240107T162003Z
LAST-MODIFIED:20250928T021141Z
UID:24998-1769252400-1769360340@www.radioclub-carc.com
SUMMARY:Winter Field Day
DESCRIPTION:Visit the https://WinterFieldDay.org website for full contest information. \nWinter Field Day 2026 rules have been updated and posted. \nUTC Dates and Times:\nBegin:  January 24\, 2026  at 1600Z\nEnd:     January 25\, 2026  at 2159Z \nThe US Stations the exchange is: \n\nthe number of transmitters you are operating\,\nyour classification (Mobile\, Indoor\, Outdoor\, or Home) and\nyour ARRL Section.\n\nCanadian Stations substitute RAC Section\, Mexico Stations substitute MX\, DX Stations substitute DX. \nEarn Points for making contacts.\nEarn Multipliers for achieving event OBJECTIVES as described in the rules. \nEND
URL:https://www.radioclub-carc.com/calendar/winter-field-day/
LOCATION:On-The-Air\, General Delivery\, Dillsburg\, PA\, United States
CATEGORIES:On-The-Air,Operating Event
END:VEVENT
BEGIN:VEVENT
DTSTART;TZID=UTC:20260127T190000
DTEND;TZID=UTC:20260127T210000
DTSTAMP:20260421T230207
CREATED:20251002T030003Z
LAST-MODIFIED:20251002T030003Z
UID:28309-1769540400-1769547600@www.radioclub-carc.com
SUMMARY:SKCC Straight Key Sprint (SKS) January
DESCRIPTION:SKCC Straight Key Sprint (SKS) \nUTC Date and Time:\nBegin:   Wednesday   January 28\, 2026   0000 Z\nEnd:      Wednesday   January 28\, 2026   0200 Z \nAlways the 4th Wednesday UTC at 0000Z for two hours. \nThe event follows the same UTC year-round.  The local time will change as Daylight Saving Time takes effect or ends.    \nEastern Standard — Local Dates and Times\nBegins:   Tuesday      07:00 p.m.\nEnds:       Tuesday      08:59 p.m. \nEastern Daylight Saving — Local Dates and Times\nBegins:   Tuesday      08:00 p.m.\nEnds:       Tuesday      09:59 p.m. \n  \nExchange:   RST\, QTH (State)\, Name\, SKCC Number \nEvent Web Site Link:  https://www.skccgroup.com/operating_activities/weekday_sprint/ \n 
URL:https://www.radioclub-carc.com/calendar/skcc-straight-key-sprint-sks-january/
LOCATION:On-The-Air\, General Delivery\, Dillsburg\, PA\, United States
CATEGORIES:Contest,CW,On-The-Air
END:VEVENT
BEGIN:VEVENT
DTSTART;TZID=America/New_York:20260129T120000
DTEND;TZID=America/New_York:20260129T133000
DTSTAMP:20260421T230207
CREATED:20190830T144037Z
LAST-MODIFIED:20250928T003308Z
UID:14958-1769688000-1769693400@www.radioclub-carc.com
SUMMARY:Ham Radio Lunch January
DESCRIPTION:Ham Radio Lunch \nThe LAST THURSDAY of the month\, except major holidays.   Noon +/- to “whenever”.\n(Editor’s guess-timate of 1:30 p.m. was used in the calendar entry._ \nLocation:\nHibachi Grill and Buffet\n5080 Jonestown Road\nHarrisburg\, PA  17112 \nThis is the same shopping center as the Hobby Lobby store and Dick’s Sporting Goods.  Just one or two doors away from the Hobby Lobby.  Across the street from Home Depot. \nNo reservations…  No sponsor…  No club affiliation required.  Just show up.\nThe group will be in the back room to the far left as you come in.  The Hostess knows where to direct you. \nNon-Alcoholic Beverages are FREE.\nThere is always a large table available for HAMFEST ITEMS.  Bring your stuff. \n  \n  \n 
URL:https://www.radioclub-carc.com/calendar/ham-radio-lunch-january/
LOCATION:Hibachi Grill and Buffet\, 5080 Jonestown Road -- Route 22\, Harrisburg\, PA\, 17112\, United States
CATEGORIES:Lunch,Social Activity
END:VEVENT
END:VCALENDAR