BEGIN:VCALENDAR
VERSION:2.0
PRODID:-//Cumberland Amateur Radio Club - ECPv6.15.20//NONSGML v1.0//EN
CALSCALE:GREGORIAN
METHOD:PUBLISH
X-ORIGINAL-URL:https://www.radioclub-carc.com
X-WR-CALDESC:Events for Cumberland Amateur Radio Club
REFRESH-INTERVAL;VALUE=DURATION:PT1H
X-Robots-Tag:noindex
X-PUBLISHED-TTL:PT1H
BEGIN:VTIMEZONE
TZID:America/New_York
BEGIN:DAYLIGHT
TZOFFSETFROM:-0500
TZOFFSETTO:-0400
TZNAME:EDT
DTSTART:20250309T070000
END:DAYLIGHT
BEGIN:STANDARD
TZOFFSETFROM:-0400
TZOFFSETTO:-0500
TZNAME:EST
DTSTART:20251102T060000
END:STANDARD
BEGIN:DAYLIGHT
TZOFFSETFROM:-0500
TZOFFSETTO:-0400
TZNAME:EDT
DTSTART:20260308T070000
END:DAYLIGHT
BEGIN:STANDARD
TZOFFSETFROM:-0400
TZOFFSETTO:-0500
TZNAME:EST
DTSTART:20261101T060000
END:STANDARD
BEGIN:DAYLIGHT
TZOFFSETFROM:-0500
TZOFFSETTO:-0400
TZNAME:EDT
DTSTART:20270314T070000
END:DAYLIGHT
BEGIN:STANDARD
TZOFFSETFROM:-0400
TZOFFSETTO:-0500
TZNAME:EST
DTSTART:20271107T060000
END:STANDARD
END:VTIMEZONE
BEGIN:VTIMEZONE
TZID:UTC
BEGIN:STANDARD
TZOFFSETFROM:+0000
TZOFFSETTO:+0000
TZNAME:UTC
DTSTART:20250101T000000
END:STANDARD
END:VTIMEZONE
BEGIN:VEVENT
DTSTART;TZID=America/New_York:20260421T180000
DTEND;TZID=America/New_York:20260421T190000
DTSTAMP:20260421T175506
CREATED:20200911T181519Z
LAST-MODIFIED:20250930T014144Z
UID:20835-1776794400-1776798000@www.radioclub-carc.com
SUMMARY:License Exam - SMRA - April
DESCRIPTION:The South Mountain Radio Amateurs will conduct a License Exam session on the following dates: \nThe third Tuesday of each month. \nThis exam will be conducted under the authority of W5YI Volunteer Exam Coordinator \n  \nThe testing session is scheduled to begin at 6:00 p.m. \nPre-Registration is required. \nVisit https://www.N3TWT.org to familiarize yourself with their testing policies.\nFrom the menu bar\, click WHAT IS SMRA\, then click SMRA TESTING POLICIES. \nNCVEC Form 605 Required\nTesting Candidates must obtain an FCC FRN Number prior to the day of testing. \n  \nContact:    smraham@gmail.com    717.347.4261 \n  \nTesting Location:\nCumberland County Public Safety Center\n1 Public Service Drive\nCarlisle\, PA  17013 \nThe testing location address shown above may not be known to some GPS devices.\nThe testing location is across the street from the Cumberland County Prison which is located at 1101 Claremont Road\, Carlisle\, PA. \n 
URL:https://www.radioclub-carc.com/calendar/license-exam-smra-april/
LOCATION:Cumberland County Public Safety Center\, 1 Public Safety Dr\, Carlisle\, PA\, 17013\, United States
CATEGORIES:License Exam
END:VEVENT
BEGIN:VEVENT
DTSTART;TZID=UTC:20260421T200000
DTEND;TZID=UTC:20260421T220000
DTSTAMP:20260421T175506
CREATED:20251002T030903Z
LAST-MODIFIED:20251002T031802Z
UID:28317-1776801600-1776808800@www.radioclub-carc.com
SUMMARY:SKCC Straight Key Sprint (SKS) April
DESCRIPTION:SKCC Straight Key Sprint (SKS) \nUTC Date and Time:\nBegin:   Wednesday   April 22\, 2026   0000 Z\nEnd:      Wednesday   April 22\, 2026   0200 Z \nAlways the 4th Wednesday UTC at 0000Z for two hours. \nThe event follows the same UTC year-round.  The local time will change as Daylight Saving Time takes effect or ends.    \nEastern Standard — Local Dates and Times\nBegins:   Tuesday      07:00 p.m.\nEnds:       Tuesday      08:59 p.m. \nEastern Daylight Saving — Local Dates and Times\nBegins:   Tuesday      08:00 p.m.\nEnds:       Tuesday      09:59 p.m. \n  \nExchange:   RST\, QTH (State)\, Name\, SKCC Number \nEvent Web Site Link:  https://www.skccgroup.com/operating_activities/weekday_sprint/ \n 
URL:https://www.radioclub-carc.com/calendar/skcc-straight-key-sprint-sks-april/
LOCATION:On-The-Air\, General Delivery\, Dillsburg\, PA\, United States
CATEGORIES:Contest,CW,On-The-Air
END:VEVENT
END:VCALENDAR